Workbook

Sheet ฐานข้อมูลตารางรวม
A1: รหัสกิจกรรม | B1: วัน | C1: คาบ/เวลา | D1: วิชา | E1: ครูผู้สอน | F1: ชั้นเรียน/กลุ่มผู้เรียน | G1: ห้องเรียน | H1: หมวดกิจกรรม
A2: 1 | B2: พฤ. | C2: 08:40 - 09.30 | D2: ท21102 ภาษาไทย 2 | E2: นางสาววิลาวัณย์ ลาแพงศรี | F2: ม.1 | G2: ห้องพยาบาล | H2: #พยาบาล
A3: 2 | B3: พ. | C3: 08:40 - 09.30 | D3: ท21102 ภาษาไทย 2 | E3: นางสาววิลาวัณย์ ลาแพงศรี | F3: ม.1 | G3: ห้องพยาบาล | H3: #พยาบาล
A4: 3 | B4: อ. | C4: 09:30 - 10.20 | D4: ท21102 ภาษาไทย 2 | E4: นางสาววิลาวัณย์ ลาแพงศรี | F4: ม.1 | G4: ห้องพยาบาล | H4: #พยาบาล
A5: 4 | B5: อ. | C5: 14:40 - 15:30 | D5: ค21102 คณิตศาสตร์ 2 | E5: นางสาววิลาวัลย์ โสภาอุทก | F5: ม.1 | G5: ห้องคณิตศาสตร์ | H5: #Math4
A6: 5 | B6: จ. | C6: 10:20 - 11:10 | D6: ค21102 คณิตศาสตร์ 2 | E6: นางสาววิลาวัลย์ โสภาอุทก | F6: ม.1 | G6: ห้องคณิตศาสตร์ | H6: #Math4
A7: 6 | B7: ศ. | C7: 11:10 - : 12:00 | D7: ค21102 คณิตศาสตร์ 2 | E7: นางสาววิลาวัลย์ โสภาอุทก | F7: ม.1 | G7: ห้องคณิตศาสตร์ | H7: #Math4
A8: 7 | B8: ศ. | C8: 13:50 - 14:40 | D8: ว21102 วิทยาศาสตร์ 2 | E8: นางสาวเพชราภรณ์ สุวรรณวงษ์ | F8: ม.1/1 | G8: ห้องวิทยาศาสตร์ | H8: #Sci
A9: 8 | B9: พ. | C9: 13:00 - 13:50 | D9: ว21102 วิทยาศาสตร์ 2 | E9: นางสาวเพชราภรณ์ สุวรรณวงษ์ | F9: ม.1/1 | G9: ห้องวิทยาศาสตร์ | H9: #Sci
A10: 9 | B10: อ. | C10: 10:20 - 11:10 | D10: ว21102 วิทยาศาสตร์ 2 | E10: นางสาวเพชราภรณ์ สุวรรณวงษ์ | F10: ม.1/1 | G10: ห้องวิทยาศาสตร์ | H10: #Sci
A11: 10 | B11: พ. | C11: 11:10 - : 12:00 | D11: ว21102 วิทยาศาสตร์ 2 | E11: นางสาวเพชราภรณ์ สุวรรณวงษ์ | F11: ม.1/2 | G11: ห้องวิทยาศาสตร์ | H11: #Sci
A12: 11 | B12: จ. | C12: 13:00 - 13:50 | D12: ว21102 วิทยาศาสตร์ 2 | E12: นางสาวเพชราภรณ์ สุวรรณวงษ์ | F12: ม.1/2 | G12: ห้องวิทยาศาสตร์ | H12: #Sci
... A19: 18 | B19: อ. | C19: 08:40 - 09.30 | D19: ส21104 ประวัติศาสตร์ 2 | E19: นางสาวชนม์สิตา มูลกัน | F19: ม.1 | G19: ห้องอาเซียน | H19: #อาเซียน
A20: 19 | B20: จ. | C20: 09:30 - 10.20 | D20: พ21102 สุขศึกษาและพลศึกษา 2 | E20: นายวีระพงษ์ บุตรสีทัด | F20: ม.1 | H20: #สุขะ
A21: 20 | B21: ศ. | C21: 13:00 - 13:50 | D21: พ21102 สุขศึกษาและพลศึกษา 2 | E21: นายวีระพงษ์ บุตรสีทัด | F21: ม.1 | G21: สนามกีฬา | H21: #พละ
A22: 21 | B22: จ. | C22: 11:10 - : 12:00 | D22: ศ21102 ศิลปะ 2 | E22: นายนิรันดร พันธ์ทรัพย์ | F22: ม.1/1 | G22: ห้องศิลปะ | H22: #Art
A23: 22 | B23: ศ. | C23: 10:20 - 11:10 | D23: ศ21102 ศิลปะ 2 | E23: นายนิรันดร พันธ์ทรัพย์ | F23: ม.1/1 | G23: ห้องศิลปะ | H23: #Art
A24: 23 | B24: พ. | C24: 10:20 - 11:10 | D24: ศ21102 ศิลปะ 2 | E24: นายนิรันดร พันธ์ทรัพย์ | F24: ม.1/2 | G24: ห้องศิลปะ | H24: #Art
A25: 24 | B25: พฤ. | C25: 10:20 - 11:10 | D25: ศ21102 ศิลปะ 2 | E25: นายนิรันดร พันธ์ทรัพย์ | F25: ม.1/2 | G25: ห้องศิลปะ | H25: #Art
A26: 25 | B26: พฤ. | C26: 10:20 - 11:10 | D26: ง21102 การงานอาชีพฯ 2 | E26: นางสาวสุดารัตน์ เชื้อเมืองแสน | F26: ม.1/1 | G26: 101 | H26: #OT
A27: 25 | B27: พฤ. | C27: 11:10 - : 12:00 | D27: ง21102 การงานอาชีพฯ 2 | E27: นางสาวสุดารัตน์ เชื้อเมืองแสน | F27: ม.1/1 | G27: 101 | H27: #OT
A28: 26 | B28: ศ. | C28: 09:30 - 10.20 | D28: ง21102 การงานอาชีพฯ 2 | E28: นางสาวสุดารัตน์ เชื้อเมืองแสน | F28: ม.1/2 | G28: 102 | H28: #OT
A29: 26 | B29: ศ. | C29: 10:20 - 11:10 | D29: ง21102 การงานอาชีพฯ 2 | E29: นางสาวสุดารัตน์ เชื้อเมืองแสน | F29: ม.1/2 | G29: 102 | H29: #OT
A30: 27 | B30: อ. | C30: 13:00 - 13:50 | D30: อ21102 ภาษาอังกฤษ 2 | E30: นางสาวช่อชัยพฤกษ์ รัตนวงศ์ | F30: ม.1 | G30: ห้องภาษาอังกฤษ | H30: #Eng
A31: 28 | B31: จ. | C31: 08:40 - 09.30 | D31: อ21102 ภาษาอังกฤษ 2 | E31: นางสาวช่อชัยพฤกษ์ รัตนวงศ์ | F31: ม.1 | G31: ห้องภาษาอังกฤษ | H31: #Eng
A32: 29 | B32: พ. | C32: 13:50 - 14:40 | D32: อ21102 ภาษาอังกฤษ 2 | E32: นางสาวช่อชัยพฤกษ์ รัตนวงศ์ | F32: ม.1 | G32: ห้องภาษาอังกฤษ | H32: #Eng
... A53: 50 | B53: ศ. | C53: 08:40 - 09.30 | D53: ค22102 คณิตศาสตร์ 4 | E53: นางสาวญารินดา หาญชัยกฤติ | F53: ม.2/2 | G53: 202 | H53: #Math5
A54: 51 | B54: ศ. | C54: 10:20 - 11:10 | D54: ว22102 วิทยาศาสตร์ 4 | E54: นายกิตติวัฒน์ วงษ์พุฒ | F54: ม.2/1 | G54: 201
A55: 52 | B55: พ. | C55: 13:00 - 13:50 | D55: ว22102 วิทยาศาสตร์ 4 | E55: นายกิตติวัฒน์ วงษ์พุฒ | F55: ม.2/1 | G55: 201
A56: 53 | B56: อ. | C56: 13:50 - 14:40 | D56: ว22102 วิทยาศาสตร์ 4 | E56: นายกิตติวัฒน์ วงษ์พุฒ | F56: ม.2/1 | G56: 201
A57: 54 | B57: ศ. | C57: 13:50 - 14:40 | D57: ว22102 วิทยาศาสตร์ 4 | E57: นายกิตติวัฒน์ วงษ์พุฒ | F57: ม.2/2 | G57: 202
A58: 55 | B58: อ. | C58: 08:40 - 09.30 | D58: ว22102 วิทยาศาสตร์ 4 | E58: นายกิตติวัฒน์ วงษ์พุฒ | F58: ม.2/2 | G58: 202
A59: 56 | B59: พ. | C59: 10:20 - 11:10 | D59: ว22102 วิทยาศาสตร์ 4 | E59: นายกิตติวัฒน์ วงษ์พุฒ | F59: ม.2/2 | G59: 202
A60: 57 | B60: อ. | C60: 14:40 - 15:30 | D60: ว22104 การออกแบบและเทคโนโลยี 2 | E60: นางสาวพาณิชย์ เบ้าแก้ว+นางสาวพัชญ์ชิสา อภิกุลวราศิษฐ์ | F60: ม.2/1 | G60: ห้องปฏิบัติการคอมพิวเตอร์ | H60: #คอม
A61: 58 | B61: อ. | C61: 13:50 - 14:40 | D61: ว22104 การออกแบบและเทคโนโลยี 2 | E61: นางสาวพาณิชย์ เบ้าแก้ว+นางสาวพัชญ์ชิสา อภิกุลวราศิษฐ์ | F61: ม.2/2 | G61: ห้องปฏิบัติการคอมพิวเตอร์ | H61: #คอม
A62: 59 | B62: พ. | C62: 08:40 - 09.30 | D62: ส22103 สังคมศึกษา 4 | E62: นางสาวณัฐวิภา รัตนะ | F62: ม.2 | G62: ห้องอาเซียน | H62: #อาเซียน
A63: 60 | B63: จ. | C63: 13:50 - 14:40 | D63: ส22103 สังคมศึกษา 4 | E63: นางสาวณัฐวิภา รัตนะ | F63: ม.2 | G63: ห้องอาเซียน | H63: #อาเซียน
A64: 61 | B64: อ. | C64: 11:10 - : 12:00 | D64: ส22103 สังคมศึกษา 4 | E64: นางสาวณัฐวิภา รัตนะ | F64: ม.2 | G64: ห้องอาเซียน | H64: #อาเซียน
A65: 62 | B65: อ. | C65: 09:30 - 10.20 | D65: ส22104 ประวัติศาสตร์ 4 | E65: นางสาวณัฐวิภา รัตนะ | F65: ม.2 | G65: ห้องอาเซียน | H65: #อาเซียน
A66: 63 | B66: จ. | C66: 11:10 - : 12:00 | D66: พ22103 สุขศึกษาและพลศึกษา 4 | E66: นายวีระพงษ์ บุตรสีทัด | F66: ม.2 | H66: #สุขะ
A67: 64 | B67: พฤ. | C67: 13:00 - 13:50 | D67: พ22103 สุขศึกษาและพลศึกษา 4 | E67: นายวีระพงษ์ บุตรสีทัด | F67: ม.2 | G67: สนามกีฬา | H67: #พละ
A68: 65 | B68: พ. | C68: 10:20 - 11:10 | D68: ศ22102 ศิลปะ 4 | E68: นายมตรส สืบโมรา | F68: ม.2/1 | G68: ห้องดนตรี | H68: #music
A69: 66 | B69: ศ. | C69: 08:40 - 09.30 | D69: ศ22102 ศิลปะ 4 | E69: นายมตรส สืบโมรา | F69: ม.2/1 | G69: ห้องดนตรี | H69: #music
A70: 67 | B70: ศ. | C70: 13:00 - 13:50 | D70: ศ22102 ศิลปะ 4 | E70: นายมตรส สืบโมรา | F70: ม.2/2 | G70: ห้องดนตรี | H70: #music
A71: 68 | B71: จ. | C71: 08:40 - 09.30 | D71: ศ22102 ศิลปะ 4 | E71: นายมตรส สืบโมรา | F71: ม.2/2 | G71: ห้องดนตรี | H71: #music
A72: 69 | B72: ศ. | C72: 13:00 - 13:50 | D72: ง22102 การงานอาชีพฯ 4 | E72: นางสาวสุดารัตน์ เชื้อเมืองแสน | F72: ม.2/1 | G72: 201 | H72: #OT
A73: 69 | B73: ศ. | C73: 13:50 - 14:40 | D73: ง22102 การงานอาชีพฯ 4 | E73: นางสาวสุดารัตน์ เชื้อเมืองแสน | F73: ม.2/1 | G73: 201 | H73: #OT
A74: 70 | B74: พ. | C74: 13:00 - 13:50 | D74: ง22102 การงานอาชีพฯ 4 | E74: นางสาวสุดารัตน์ เชื้อเมืองแสน | F74: ม.2/2 | G74: 202 | H74: #OT
A75: 70 | B75: พ. | C75: 13:50 - 14:40 | D75: ง22102 การงานอาชีพฯ 4 | E75: นางสาวสุดารัตน์ เชื้อเมืองแสน | F75: ม.2/2 | G75: 202 | H75: #OT
A76: 71 | B76: พฤ. | C76: 11:10 - : 12:00 | D76: อ22102 ภาษาอังกฤษ 4 | E76: นายศุภกิตติ์ บุญวงษา | F76: ม.2 | G76: ห้องภาษาอังกฤษ | H76: #Eng
A77: 72 | B77: ศ. | C77: 09:30 - 10.20 | D77: อ22102 ภาษาอังกฤษ 4 | E77: นายศุภกิตติ์ บุญวงษา | F77: ม.2 | G77: ห้องภาษาอังกฤษ | H77: #Eng
A78: 73 | B78: จ. | C78: 09:30 - 10.20 | D78: อ22102 ภาษาอังกฤษ 4 | E78: นายศุภกิตติ์ บุญวงษา | F78: ม.2 | G78: ห้องภาษาอังกฤษ | H78: #Eng
... A80: 75 | B80: ศ. | C80: 10:20 - 11:10 | D80: ส22252 การป้องกันการทุจริต 4 | E80: นายมตรส สืบโมรา | F80: ม.2/2 | G80: 202 | H80: #สุจริต
A81: 76 | B81: จ. | C81: 13:00 - 13:50 | D81: ว22202 โครงงานทดลอง | E81: นายกิตติวัฒน์ วงษ์พุฒ | F81: ม.2/1 | G81: 201
A82: 77 | B82: พฤ. | C82: 09:30 - 10.20 | D82: ว22202 โครงงานทดลอง | E82: นายกิตติวัฒน์ วงษ์พุฒ | F82: ม.2/2 | G82: 202
A83: 78 | B83: จ. | C83: 10:20 - 11:10 | D83: ว22204 สวนพฤกษศาสตร์ 1 | E83: นางสาวพาณิชย์ เบ้าแก้ว | F83: ม.2 | G83: ห้องวิทยาศาสตร์ | H83: #Sci
A84: 79 | B84: อ. | C84: 10:20 - 11:10 | D84: กิจกรรมแนะแนว | E84: นางสาวปนัดดา กล้ารมรัญ | F84: ม.2/1 | G84: 201 | H84: #แนะแนว
A85: 80 | B85: อ. | C85: 14:40 - 15:30 | D85: กิจกรรมแนะแนว | E85: นางสาวณัฐวิภา รัตนะ | F85: ม.2/2 | G85: 202 | H85: #แนะแนว
A86: 81 | B86: พ. | C86: 11:10 - : 12:00 | D86: Self Study | E86: นางสาวปนัดดา กล้ารมรัญ+นางสาวณัฐวิภา รัตนะ | F86: ม.2 | G86: ห้องอาเซียน | H86: #SelfStudy
A87: 82 | B87: พฤ. | C87: 08:40 - 09.30 | D87: Self Study | E87: นางสาวปนัดดา กล้ารมรัญ+นางสาวณัฐวิภา รัตนะ | F87: ม.2 | G87: ห้องอาเซียน | H87: #SelfStudy
A88: 83 | B88: อ. | C88: 08:40 - 09.30 | D88: ท23102 ภาษาไทย 6 | E88: นางสาววิลาวัณย์ ลาแพงศรี | F88: ม.3 | G88: ห้องพยาบาล | H88: #พยาบาล
A89: 84 | B89: พฤ. | C89: 09:30 - 10.20 | D89: ท23102 ภาษาไทย 6 | E89: นางสาววิลาวัณย์ ลาแพงศรี | F89: ม.3 | G89: ห้องพยาบาล | H89: #พยาบาล
A90: 85 | B90: พ. | C90: 11:10 - : 12:00 | D90: ท23102 ภาษาไทย 6 | E90: นางสาววิลาวัณย์ ลาแพงศรี | F90: ม.3 | G90: ห้องพยาบาล | H90: #พยาบาล
A91: 86 | B91: ศ. | C91: 09:30 - 10.20 | D91: ค23102 คณิตศาสตร์ 6 | E91: นางสาววิลาวัลย์ โสภาอุทก | F91: ม.3 | G91: ห้องคณิตศาสตร์ | H91: #Math4
A92: 87 | B92: จ. | C92: 08:40 - 09.30 | D92: ค23102 คณิตศาสตร์ 6 | E92: นางสาววิลาวัลย์ โสภาอุทก | F92: ม.3 | G92: ห้องคณิตศาสตร์ | H92: #Math4
A93: 88 | B93: พฤ. | C93: 08:40 - 09.30 | D93: ค23102 คณิตศาสตร์ 6 | E93: นางสาววิลาวัลย์ โสภาอุทก | F93: ม.3 | G93: ห้องคณิตศาสตร์ | H93: #Math4
A94: 89 | B94: จ. | C94: 13:50 - 14:40 | D94: ว23102 วิทยาศาสตร์ 6 | E94: นายกิตติวัฒน์ วงษ์พุฒ | F94: ม.3/1 | G94: 301
A95: 90 | B95: พ. | C95: 08:40 - 09.30 | D95: ว23102 วิทยาศาสตร์ 6 | E95: นายกิตติวัฒน์ วงษ์พุฒ | F95: ม.3/1 | G95: 301
A96: 91 | B96: พฤ. | C96: 11:10 - : 12:00 | D96: ว23102 วิทยาศาสตร์ 6 | E96: นายกิตติวัฒน์ วงษ์พุฒ | F96: ม.3/1 | G96: 301
A97: 92 | B97: พ. | C97: 13:50 - 14:40 | D97: ว23102 วิทยาศาสตร์ 6 | E97: นายกิตติวัฒน์ วงษ์พุฒ | F97: ม.3/2 | G97: 302
A98: 93 | B98: อ. | C98: 09:30 - 10.20 | D98: ว23102 วิทยาศาสตร์ 6 | E98: นายกิตติวัฒน์ วงษ์พุฒ | F98: ม.3/2 | G98: 302
A99: 94 | B99: ศ. | C99: 08:40 - 09.30 | D99: ว23102 วิทยาศาสตร์ 6 | E99: นายกิตติวัฒน์ วงษ์พุฒ | F99: ม.3/2 | G99: 302
A100: 95 | B100: จ. | C100: 13:00 - 13:50 | D100: ว23104 การออกแบบและเทคโนโลยี 3 | E100: นางสาวปนัดดา กล้ารมรัญ+นางสาวพัชญ์ชิสา อภิกุลวราศิษฐ์ | F100: ม.3/1 | G100: ห้องปฏิบัติการคอมพิวเตอร์ | H100: #คอม
A101: 96 | B101: ศ. | C101: 13:00 - 13:50 | D101: ว23104 การออกแบบและเทคโนโลยี 3 | E101: นางสาวปนัดดา กล้ารมรัญ+นางสาวพัชญ์ชิสา อภิกุลวราศิษฐ์ | F101: ม.3/2 | G101: ห้องปฏิบัติการคอมพิวเตอร์ | H101: #คอม
A102: 100 | B102: พฤ. | C102: 11:10 - : 12:00 | D102: ส23103 สังคมศึกษา 6 | E102: นางสาวชนม์สิตา มูลกัน | F102: ม.3/2 | G102: ห้องอาเซียน
A103: 101 | B103: พ. | C103: 10:20 - 11:10 | D103: ส23103 สังคมศึกษา 6 | E103: นางสาวชนม์สิตา มูลกัน | F103: ม.3/2 | G103: 302
A104: 102 | B104: จ. | C104: 13:50 - 14:40 | D104: ส23103 สังคมศึกษา 6 | E104: นางสาวชนม์สิตา มูลกัน | F104: ม.3/2 | G104: 302
A105: 103 | B105: ศ. | C105: 13:00 - 13:50 | D105: ส23104 ประวัติศาสตร์ 6 | E105: นางสาวชนม์สิตา มูลกัน | F105: ม.3/1 | G105: 301
A106: 104 | B106: อ. | C106: 14:40 - 15:30 | D106: ส23104 ประวัติศาสตร์ 6 | E106: นางสาวชนม์สิตา มูลกัน | F106: ม.3/2 | G106: ห้องอาเซียน
A107: 105 | B107: จ. | C107: 09:30 - 10.20 | D107: พ23103 สุขศึกษาและพลศึกษา 6 | E107: นายมตรส สืบโมรา | F107: ม.3 | H107: #สุขะ
A108: 106 | B108: ศ. | C108: 13:50 - 14:40 | D108: พ23103 สุขศึกษาและพลศึกษา 6 | E108: นายมตรส สืบโมรา | F108: ม.3 | G108: สนามกีฬา | H108: #พละ
A109: 107 | B109: จ. | C109: 11:10 - : 12:00 | D109: ศ23102 ศิลปะ 6 | E109: นายมตรส สืบโมรา | F109: ม.3/1 | G109: ห้องดนตรี | H109: #music
A110: 108 | B110: อ. | C110: 13:00 - 13:50 | D110: ศ23102 ศิลปะ 6 | E110: นายมตรส สืบโมรา | F110: ม.3/1 | G110: ห้องดนตรี | H110: #music
A111: 109 | B111: พ. | C111: 08:40 - 09.30 | D111: ศ23102 ศิลปะ 6 | E111: นายมตรส สืบโมรา | F111: ม.3/2 | G111: ห้องดนตรี | H111: #music
A112: 110 | B112: จ. | C112: 13:00 - 13:50 | D112: ศ23102 ศิลปะ 6 | E112: นายมตรส สืบโมรา | F112: ม.3/2 | G112: ห้องดนตรี | H112: #music
A113: 111 | B113: พ. | C113: 09:30 - 10.20 | D113: ง23102 การงานอาชีพฯ 6 | E113: นางสาวสุดารัตน์ เชื้อเมืองแสน | F113: ม.3/1 | G113: 301 | H113: #OT
A114: 111 | B114: พ. | C114: 10:20 - 11:10 | D114: ง23102 การงานอาชีพฯ 6 | E114: นางสาวสุดารัตน์ เชื้อเมืองแสน | F114: ม.3/1 | G114: 301 | H114: #OT
A115: 112 | B115: อ. | C115: 13:00 - 13:50 | D115: ง23102 การงานอาชีพฯ 6 | E115: นางสาวสุดารัตน์ เชื้อเมืองแสน | F115: ม.3/2 | G115: 302 | H115: #OT
A116: 112 | B116: อ. | C116: 13:50 - 14:40 | D116: ง23102 การงานอาชีพฯ 6 | E116: นางสาวสุดารัตน์ เชื้อเมืองแสน | F116: ม.3/2 | G116: 302 | H116: #OT
A117: 113 | B117: จ. | C117: 10:20 - 11:10 | D117: อ23102 ภาษาอังกฤษ 6 | E117: นางสาวช่อชัยพฤกษ์ รัตนวงศ์ | F117: ม.3 | G117: ห้องภาษาอังกฤษ | H117: #Eng
A118: 114 | B118: อ. | C118: 11:10 - : 12:00 | D118: อ23102 ภาษาอังกฤษ 6 | E118: นางสาวช่อชัยพฤกษ์ รัตนวงศ์ | F118: ม.3 | G118: ห้องภาษาอังกฤษ | H118: #Eng
A119: 115 | B119: พฤ. | C119: 13:00 - 13:50 | D119: อ23102 ภาษาอังกฤษ 6 | E119: นางสาวช่อชัยพฤกษ์ รัตนวงศ์ | F119: ม.3 | G119: ห้องภาษาอังกฤษ | H119: #Eng
A120: 116 | B120: อ. | C120: 10:20 - 11:10 | D120: ส20236 หน้าที่พลเมือง 6 | E120: นางสาวณัฐวิภา รัตนะ | F120: ม.3/1 | G120: ห้องอาเซียน
A121: 117 | B121: พฤ. | C121: 10:20 - 11:10 | D121: ส20236 หน้าที่พลเมือง 6 | E121: นางสาวณัฐวิภา รัตนะ | F121: ม.3/2 | G121: 302
A122: 118 | B122: อ. | C122: 14:40 - 15:30 | D122: ว23202 โครงงานสิ่งประดิษฐ์ 2 | E122: นายกิตติวัฒน์ วงษ์พุฒ | F122: ม.3/1 | G122: 301
A123: 119 | B123: พ. | C123: 09:30 - 10.20 | D123: ว23202 โครงงานสิ่งประดิษฐ์ 2 | E123: นายกิตติวัฒน์ วงษ์พุฒ | F123: ม.3/2 | G123: 302
A124: 120 | B124: อ. | C124: 13:50 - 14:40 | D124: อ23202ภาษาอังกฤษเพื่อการสื่อสาร 6 | E124: นายศุภกิตติ์ บุญวงษา | F124: ม.3/1 | G124: ห้องภาษาอังกฤษ | H124: #Eng
A125: 121 | B125: ศ. | C125: 08:40 - 09.30 | D125: อ23202ภาษาอังกฤษเพื่อการสื่อสาร 6 | E125: นายศุภกิตติ์ บุญวงษา | F125: ม.3/1 | G125: ห้องภาษาอังกฤษ | H125: #Eng
A126: 122 | B126: อ. | C126: 10:20 - 11:10 | D126: อ23202ภาษาอังกฤษเพื่อการสื่อสาร 6 | E126: นายศุภกิตติ์ บุญวงษา | F126: ม.3/2 | G126: ห้องภาษาอังกฤษ | H126: #Eng
A127: 123 | B127: จ. | C127: 11:10 - : 12:00 | D127: อ23202ภาษาอังกฤษเพื่อการสื่อสาร 6 | E127: นายศุภกิตติ์ บุญวงษา | F127: ม.3/2 | G127: ห้องภาษาอังกฤษ | H127: #Eng
...

Sheet สรุปภาระงานสอนครู
A1: ลำดับ | B1: ชื่อครูผู้สอน | C1: จำนวนคาบสอนจริง (คาบ/สัปดาห์) | D1: หมายเหตุ
A2: 1 | B2: นางสาววิลาวัณย์ ลาแพงศรี | C2: =COUNTIF('ฐานข้อมูลตารางรวม'!$E$2:$E$591, "*" & B2 & "*")
A3: 2 | B3: นางสาวช่อชัยพฤกษ์ รัตนวงศ์ | C3: =COUNTIF('ฐานข้อมูลตารางรวม'!$E$2:$E$591, "*" & B3 & "*")
A4: 3 | B4: นางสาววิลาวัลย์ โสภาอุทก | C4: =COUNTIF('ฐานข้อมูลตารางรวม'!$E$2:$E$591, "*" & B4 & "*")
A5: 4 | B5: นางสาวญารินดา หาญชัยกฤติ | C5: =COUNTIF('ฐานข้อมูลตารางรวม'!$E$2:$E$591, "*" & B5 & "*")
A6: 5 | B6: นางสาวพัชญ์ชิสา อภิกุลวราศิษฐ์ | C6: =COUNTIF('ฐานข้อมูลตารางรวม'!$E$2:$E$591, "*" & B6 & "*")
A7: 6 | B7: นายกิตติวัฒน์ วงษ์พุฒ | C7: =COUNTIF('ฐานข้อมูลตารางรวม'!$E$2:$E$591, "*" & B7 & "*")
A8: 7 | B8: นางสาวพาณิชย์ เบ้าแก้ว | C8: =COUNTIF('ฐานข้อมูลตารางรวม'!$E$2:$E$591, "*" & B8 & "*")
A9: 8 | B9: นายจตุรวิทย์ วงละคร | C9: =COUNTIF('ฐานข้อมูลตารางรวม'!$E$2:$E$591, "*" & B9 & "*")
A10: 9 | B10: นางสาวเพชราภรณ์ สุวรรณวงษ์ | C10: =COUNTIF('ฐานข้อมูลตารางรวม'!$E$2:$E$591, "*" & B10 & "*")
A11: 10 | B11: นางสาวปนัดดา กล้ารมรัญ | C11: =COUNTIF('ฐานข้อมูลตารางรวม'!$E$2:$E$591, "*" & B11 & "*")
A12: 11 | B12: นางสาวณัฐวิภา รัตนะ | C12: =COUNTIF('ฐานข้อมูลตารางรวม'!$E$2:$E$591, "*" & B12 & "*")
A13: 12 | B13: นางสาวชนม์สิตา มูลกัน | C13: =COUNTIF('ฐานข้อมูลตารางรวม'!$E$2:$E$591, "*" & B13 & "*")
... A22: 21 | B22: นายศุภกิตติ์ บุญวงษา | C22: =COUNTIF('ฐานข้อมูลตารางรวม'!$E$2:$E$591, "*" & B22 & "*")
A23: รวมจำนวนคาบสอนทั้งหมด | C23: =SUM(C2:C22)

Sheet ตารางสอนรายครู
C1: ตารางสอนโรงเรียนเดื่อวิทยาคาร ภาคเรียนที่ 2 ปีการศึกษา 2569
C2: ครูผู้สอน: นางสาววิลาวัณย์ ลาแพงศรี
A4: วัน / คาบ | B4: 08:25 - 08:40 | C4: 08:40 - 09.30 | D4: 09:30 - 10.20 | E4: 10:20 - 11:10 | F4: 11:10 - : 12:00 | G4: พักเที่ยง | H4: 13:00 - 13:50 | I4: 13:50 - 14:40 | J4: 14:40 - 15:30 | K4: 15:30 - 16:00
A5: จ. | B5: โฮมรูม/PLC | C5: ประชุมหัวหน้าฝ่ายฯ | G5: -X- | H5: --- | I5: --- | J5: --- | K5: เขตรับผิดชอบความสะอาด
A6: อ. | B6: โฮมรูม/PLC | C6: ม.3 ท23102 ภาษาไทย 6 ห้องพยาบาล | D6: ม.1 ท21102 ภาษาไทย 2 ห้องพยาบาล | E6: ม.6/1 ท33102 ภาษาไทย 6 ห้องพยาบาล | F6: ท21202 เสริมทักษะการอ่านร้อยกรอง | G6: -X- | H6: ม.5 ท32102 ภาษาไทย 4 ห้องพยาบาล | I6: ม.4 ท31102 ภาษาไทย 2 ห้องพยาบาล | J6: ม.5/2 ท32202 หลักภาษาไทย 2 ห้องพยาบาล | K6: เขตรับผิดชอบความสะอาด
A7: พ. | B7: โฮมรูม/PLC | C7: ม.1 ท21102 ภาษาไทย 2 ห้องพยาบาล | D7: ม.2 ท22102 ภาษาไทย 4 ห้องพยาบาล | E7: ม.5/2 ท32202 หลักภาษาไทย 2 ห้องพยาบาล | F7: ม.3 ท23102 ภาษาไทย 6 ห้องพยาบาล | G7: -X- | H7: --- | I7: ม.3/1 กิจกรรมแนะแนว ห้อง 301 | J7: ม.4 ท31102 ภาษาไทย 2 ห้องพยาบาล | K7: เขตรับผิดชอบความสะอาด
A8: พฤ. | B8: โฮมรูม/PLC | C8: ม.1 ท21102 ภาษาไทย 2 ห้องพยาบาล | D8: ม.3 ท23102 ภาษาไทย 6 ห้องพยาบาล | E8: ม.2 ท22102 ภาษาไทย 4 ห้องพยาบาล | F8: ม.5 ท32102 ภาษาไทย 4 ห้องพยาบาล | G8: -X- | H8: ม.4/2 ท31202 การเขียน 2 ห้องพยาบาล | I8: ชุมนุม | J8: กีฬา | K8: เขตรับผิดชอบความสะอาด
A9: ศ. | B9: โฮมรูม/PLC | C9: ม.4/2 ท31202 การเขียน 2 ห้องพยาบาล | D9: --- | E9: ม.6/1 ท33102 ภาษาไทย 6 ห้องพยาบาล | F9: ม.2 ท22102 ภาษาไทย 4 ห้องพยาบาล | G9: -X- | H9: --- | I9: --- | J9: คุณธรรม จริยธรรม | K9: เขตรับผิดชอบความสะอาด
A10: Timetable generated with FET 6.26.2 on 28/10/2026 | โรงเรียนเดื่อวิทยาคาร
B12: ลงชื่อ..................................................หัวหน้ากลุ่มบริหารงานวิชาการ | H12: ลงชื่อ..........................................................ผู้อำนวยการสถานศึกษา
C18: ตารางสอนโรงเรียนเดื่อวิทยาคาร ภาคเรียนที่ 2 ปีการศึกษา 2569
C19: ครูผู้สอน: นางสาวช่อชัยพฤกษ์ รัตนวงศ์
A21: วัน / คาบ | B21: 08:25 - 08:40 | C21: 08:40 - 09.30 | D21: 09:30 - 10.20 | E21: 10:20 - 11:10 | F21: 11:10 - : 12:00 | G21: พักเที่ยง | H21: 13:00 - 13:50 | I21: 13:50 - 14:40 | J21: 14:40 - 15:30 | K21: 15:30 - 16:00
A22: จ. | B22: โฮมรูม/PLC | C22: ม.1 อ21102 ภาษาอังกฤษ 2 ห้องอังกฤษ | D22: --- | E22: ม.3 อ23102 ภาษาอังกฤษ 6 ห้องอังกฤษ | F22: --- | G22: -X- | H22: ม.6/1 อ33102 ภาษาอังกฤษ 6 ห้องอังกฤษ | I22: ม.6/1 อ33202 ภาษาอังกฤษท่องเที่ยว 3 ห้องอังกฤษ | J22: ม.4/2, ม.4/3 อ31212 ภาษาอังกฤษเพื่อการสื่อสาร 2 ห้องอังกฤษ | K22: เขตรับผิดชอบความสะอาด
A23: อ. | B23: โฮมรูม/PLC | C23: --- | D23: ม.6/1 อ33102 ภาษาอังกฤษ 6 ห้องอังกฤษ | E23: --- | F23: ม.3 อ23102 ภาษาอังกฤษ 6 ห้องอังกฤษ | G23: -X- | H23: ม.1 อ21102 ภาษาอังกฤษ 2 ห้องอังกฤษ | I23: --- | J23: --- | K23: เขตรับผิดชอบความสะอาด
A24: พ. | B24: โฮมรูม/PLC | C24: --- | D24: --- | E24: --- | F24: ม.6/1 อ33202 ภาษาอังกฤษท่องเที่ยว 3 ห้องอังกฤษ | G24: -X- | H24: ม.4/2, ม.4/3 อ31212 ภาษาอังกฤษเพื่อการสื่อสาร 2 ห้องอังกฤษ | I24: ม.1 อ21102 ภาษาอังกฤษ 2 ห้องอังกฤษ | J24: ม.5 อ32202 ภาษาอังกฤษท่องเที่ยว 1 ห้องอังกฤษ | K24: เขตรับผิดชอบความสะอาด
A25: พฤ. | B25: โฮมรูม/PLC | C25: ม.6/1 อ33202 ภาษาอังกฤษท่องเที่ยว 3 ห้องอังกฤษ | D25: ม.6/1 กิจกรรมแนะแนว ห้อง 601 | E25: --- | F25: --- | G25: -X- | H25: ม.3 อ23102 ภาษาอังกฤษ 6 ห้องอังกฤษ | I25: ชุมนุม | J25: กีฬา | K25: เขตรับผิดชอบความสะอาด
A26: ศ. | B26: โฮมรูม/PLC | C26: --- | D26: --- | E26: --- | F26: ม.6/1 อ33202 ภาษาอังกฤษท่องเที่ยว 3 ห้องอังกฤษ | G26: -X- | H26: --- | I26: --- | J26: คุณธรรม จริยธรรม | K26: เขตรับผิดชอบความสะอาด
A27: Timetable generated with FET 6.26.2 on 28/10/2026 | โรงเรียนเดื่อวิทยาคาร
B29: ลงชื่อ..................................................หัวหน้ากลุ่มบริหารงานวิชาการ | H29: ลงชื่อ..........................................................ผู้อำนวยการสถานศึกษา
C35: ตารางสอนโรงเรียนเดื่อวิทยาคาร ภาคเรียนที่ 2 ปีการศึกษา 2569
C36: ครูผู้สอน: นางสาววิลาวัลย์ โสภาอุทก
A38: วัน / คาบ | B38: 08:25 - 08:40 | C38: 08:40 - 09.30 | D38: 09:30 - 10.20 | E38: 10:20 - 11:10 | F38: 11:10 - : 12:00 | G38: พักเที่ยง | H38: 13:00 - 13:50 | I38: 13:50 - 14:40 | J38: 14:40 - 15:30 | K38: 15:30 - 16:00
A39: จ. | B39: โฮมรูม/PLC | C39: ม.3 ค23102 คณิตศาสตร์ 6 ห้องคณิต | D39: ม.5 ค32102 คณิตศาสตร์ 4 ห้องคณิต | E39: ม.1 ค21102 คณิตศาสตร์ 2 ห้องคณิต | F39: ม.1/2 ส21252 การป้องกันการทุจริต 2 ห้อง 102 | G39: -X- | H39: --- | I39: ม.4 ค31102 คณิตศาสตร์ 2 ห้องคณิต | J39: ม.5/1 Self Study ห้อง 501 | K39: เขตรับผิดชอบความสะอาด
A40: อ. | B40: โฮมรูม/PLC | C40: --- | D40: --- | E40: ม.1/2 ว21202 การศึกษาค้นคว้าและสารสนเทศ ห้องคอมฯ | F40: ม.4 ค31102 คณิตศาสตร์ 2 ห้องคณิต | G40: -X- | H40: --- | I40: --- | J40: ม.1 ค21102 คณิตศาสตร์ 2 ห้องคณิต | K40: เขตรับผิดชอบความสะอาด
A41: พ. | B41: โฮมรูม/PLC | C41: ม.5 ค32102 คณิตศาสตร์ 4 ห้องคณิต | D41: ม.4/3 ง31292 สถิติการทดลอง ห้องคณิต | E41: ม.1/1 ส21252 การป้องกันการทุจริต 2 ห้อง 101 | F41: ม.4 ค31102 คณิตศาสตร์ 2 ห้องคณิต | G41: -X- | H41: ม.5/1 กิจกรรมแนะแนว ห้อง 501 | I41: --- | J41: --- | K41: เขตรับผิดชอบความสะอาด
A42: พฤ. | B42: โฮมรูม/PLC | C42: ม.3 ค23102 คณิตศาสตร์ 6 ห้องคณิต | D42: --- | E42: --- | F42: ม.1/2 ว21202 การศึกษาค้นคว้าและสารสนเทศ ห้องคอมฯ | G42: -X- | H42: --- | I42: ชุมนุม | J42: กีฬา | K42: เขตรับผิดชอบความสะอาด
A43: ศ. | B43: โฮมรูม/PLC | C43: --- | D43: ม.3 ค23102 คณิตศาสตร์ 6 ห้องคณิต | E43: --- | F43: ม.1 ค21102 คณิตศาสตร์ 2 ห้องคณิต | G43: -X- | H43: ม.5/1 Self Study ห้อง 501 | I43: --- | J43: คุณธรรม จริยธรรม | K43: เขตรับผิดชอบความสะอาด
A44: Timetable generated with FET 6.26.2 on 28/10/2026 | โรงเรียนเดื่อวิทยาคาร
B46: ลงชื่อ..................................................หัวหน้ากลุ่มบริหารงานวิชาการ | H46: ลงชื่อ..........................................................ผู้อำนวยการสถานศึกษา
C52: ตารางสอนโรงเรียนเดื่อวิทยาคาร ภาคเรียนที่ 2 ปีการศึกษา 2569
C53: ครูผู้สอน: นางสาวญารินดา หาญชัยกฤติ
A55: วัน / คาบ | B55: 08:25 - 08:40 | C55: 08:40 - 09.30 | D55: 09:30 - 10.20 | E55: 10:20 - 11:10 | F55: 11:10 - : 12:00 | G55: พักเที่ยง | H55: 13:00 - 13:50 | I55: 13:50 - 14:40 | J55: 14:40 - 15:30 | K55: 15:30 - 16:00
A56: จ. | B56: โฮมรูม/PLC | C56: ม.2/1 ค22102 คณิตศาสตร์ 4 ห้อง 201 | D56: ม.4/3 ง31294 คณิตศาสตร์ช่างยนต์ | E56: ม.4/1 ค31202 คณิตศาสตร์เพิ่มเติม 2 ห้อง 401 | F56: ม.6/1 ค33202 คณิตศาสตร์เพิ่มเติม 6 ห้องคณิต | G56: -X- | H56: ม.2/2 ค22102 คณิตศาสตร์ 4 ห้อง 202 | I56: --- | J56: --- | K56: เขตรับผิดชอบความสะอาด
A57: อ. | B57: โฮมรูม/PLC | C57: ม.6/1 ค33202 คณิตศาสตร์เพิ่มเติม 6 ห้องคณิต | D57: ม.4/1 ค31202 คณิตศาสตร์เพิ่มเติม 2 ห้อง 401 | E57: ม.2/2 ค22102 คณิตศาสตร์ 4 ห้อง 202 | F57: ค21202 เสริมทักษะคณิตศาสตร์ 2 | G57: -X- | H57: ค22202 เสริมทักษะคณิตศาสตร์ 4 | I57: --- | J57: ม.5/1 ค32202 คณิตศาสตร์เพิ่มเติม 4 ห้อง 501 | K57: เขตรับผิดชอบความสะอาด
A58: พ. | B58: โฮมรูม/PLC | C58: --- | D58: ม.4/1 ค31202 คณิตศาสตร์เพิ่มเติม 2 ห้อง 401 | E58: --- | F58: --- | G58: -X- | H58: --- | I58: ม.2/1 ค22102 คณิตศาสตร์ 4 ห้อง 201 | J58: --- | K58: เขตรับผิดชอบความสะอาด
A59: พฤ. | B59: โฮมรูม/PLC | C59: ม.4/1 Self Study ห้อง 401 | D59: ม.2/1 ค22102 คณิตศาสตร์ 4 ห้อง 201 | E59: ม.5/1 ค32202 คณิตศาสตร์เพิ่มเติม 4 ห้อง 501 | F59: ม.6/1 ค33202 คณิตศาสตร์เพิ่มเติม 6 ห้องคณิต | G59: -X- | H59: ม.4/1 กิจกรรมแนะแนว ห้อง 401 | I59: ชุมนุม | J59: กีฬา | K59: เขตรับผิดชอบความสะอาด
A60: ศ. | B60: โฮมรูม/PLC | C60: ม.2/2 ค22102 คณิตศาสตร์ 4 ห้อง 202 | D60: ม.5/1 ค32202 คณิตศาสตร์เพิ่มเติม 4 ห้อง 501 | E60: ค23202 เสริมทักษะคณิตศาสตร์ 6 | G60: -X- | H60: --- | I60: --- | J60: คุณธรรม จริยธรรม | K60: เขตรับผิดชอบความสะอาด
A61: Timetable generated with FET 6.26.2 on 28/10/2026 | โรงเรียนเดื่อวิทยาคาร
B63: ลงชื่อ..................................................หัวหน้ากลุ่มบริหารงานวิชาการ | H63: ลงชื่อ..........................................................ผู้อำนวยการสถานศึกษา
C69: ตารางสอนโรงเรียนเดื่อวิทยาคาร ภาคเรียนที่ 2 ปีการศึกษา 2569
C70: ครูผู้สอน: นางสาวพัชญ์ชิสา อภิกุลวราศิษฐ์
A72: วัน / คาบ | B72: 08:25 - 08:40 | C72: 08:40 - 09.30 | D72: 09:30 - 10.20 | E72: 10:20 - 11:10 | F72: 11:10 - : 12:00 | G72: พักเที่ยง | H72: 13:00 - 13:50 | I72: 13:50 - 14:40 | J72: 14:40 - 15:30 | K72: 15:30 - 16:00
A73: จ. | B73: โฮมรูม/PLC | C73: ประชุมหัวหน้าฝ่ายฯ | G73: -X- | H73: ม.3/1 ว23104 การออกแบบและเทคโนโลยี 3 ห้องคอมฯ | I73: ม.5/2 ว32212 AI เพื่อการทำโครงงานและพอร์ตโฟลิโอ ห้องคอมฯ | J73: --- | K73: เขตรับผิดชอบความสะอาด
A74: อ. | B74: โฮมรูม/PLC | C74: ม.5/2 ว32212 AI เพื่อการทำโครงงานและพอร์ตโฟลิโอ ห้องคอมฯ | D74: ม.4/3 ว31204 การใช้เทคโนโลยีดิจิทัลเพื่ออาชีพ ห้องคอมฯ | E74: ม.1/2 ว21202 การศึกษาค้นคว้าและสารสนเทศ ห้องคอมฯ | F74: ม.5/2 ง32261 ความถนัดทางอาชีพ 2 | G74: -X- | H74: --- | I74: ม.2/2 ว22104 การออกแบบและเทคโนโลยี 2 ห้องคอมฯ | J74: ม.2/1 ว22104 การออกแบบและเทคโนโลยี 2 ห้องคอมฯ | K74: เขตรับผิดชอบความสะอาด
A75: พ. | B75: โฮมรูม/PLC | C75: ม.4/1 ว31204 การใช้เทคโนโลยีดิจิทัลเพื่ออาชีพ ห้องคอมฯ | D75: --- | E75: --- | F75: ม.1/1 ว21202 การศึกษาค้นคว้าและสารสนเทศ ห้องคอมฯ | G75: -X- | H75: ม.6/1 ว33103 วิทยาการคำนวณ ห้องคอมฯ | I75: ม.4/3 ว31204 การใช้เทคโนโลยีดิจิทัลเพื่ออาชีพ ห้องคอมฯ | J75: --- | K75: เขตรับผิดชอบความสะอาด
A76: พฤ. | B76: โฮมรูม/PLC | C76: ม.4/2 ว31204 การใช้เทคโนโลยีดิจิทัลเพื่ออาชีพ ห้องคอมฯ | D76: --- | E76: --- | F76: ม.1/2 ว21202 การศึกษาค้นคว้าและสารสนเทศ ห้องคอมฯ | G76: -X- | H76: ม.1/2 ว21104 การออกแบบและเทคโนโลยี 1 ห้องคอมฯ | I76: ชุมนุม | J76: กีฬา | K76: เขตรับผิดชอบความสะอาด
A77: ศ. | B77: โฮมรูม/PLC | C77: ม.1/1 ว21104 การออกแบบและเทคโนโลยี 1 ห้องคอมฯ | D77: ม.1/1 ว21202 การศึกษาค้นคว้าและสารสนเทศ ห้องคอมฯ | E77: ม.4/2 ว31204 การใช้เทคโนโลยีดิจิทัลเพื่ออาชีพ ห้องคอมฯ | F77: ม.4/1 ว31204 การใช้เทคโนโลยีดิจิทัลเพื่ออาชีพ ห้องคอมฯ | G77: -X- | H77: ม.3/2 ว23104 การออกแบบและเทคโนโลยี 3 ห้องคอมฯ | I77: --- | J77: คุณธรรม จริยธรรม | K77: เขตรับผิดชอบความสะอาด
A78: Timetable generated with FET 6.26.2 on 28/10/2026 | โรงเรียนเดื่อวิทยาคาร
B80: ลงชื่อ..................................................หัวหน้ากลุ่มบริหารงานวิชาการ | H80: ลงชื่อ..........................................................ผู้อำนวยการสถานศึกษา
C86: ตารางสอนโรงเรียนเดื่อวิทยาคาร ภาคเรียนที่ 2 ปีการศึกษา 2569
C87: ครูผู้สอน: นายกิตติวัฒน์ วงษ์พุฒ
A89: วัน / คาบ | B89: 08:25 - 08:40 | C89: 08:40 - 09.30 | D89: 09:30 - 10.20 | E89: 10:20 - 11:10 | F89: 11:10 - : 12:00 | G89: พักเที่ยง | H89: 13:00 - 13:50 | I89: 13:50 - 14:40 | J89: 14:40 - 15:30 | K89: 15:30 - 16:00
A90: จ. | B90: โฮมรูม/PLC | C90: ประชุมหัวหน้าฝ่ายฯ | G90: -X- | H90: ม.2/1 ว22202 โครงงานทดลอง ห้อง 201 | I90: ม.3/1 ว23102 วิทยาศาสตร์ 6 ห้อง 301 | J90: ม.2 ลดเวลาเรียน เพิ่มเวลารู้ | K90: เขตรับผิดชอบความสะอาด
A91: อ. | B91: โฮมรูม/PLC | C91: ม.2/2 ว22102 วิทยาศาสตร์ 4 ห้อง 202 | D91: ม.3/2 ว23102 วิทยาศาสตร์ 6 ห้อง 302 | E91: --- | F91: --- | G91: -X- | H91: --- | I91: ม.2/1 ว22102 วิทยาศาสตร์ 4 ห้อง 201 | J91: ม.3/1 ว23202 โครงงานสิ่งประดิษฐ์ 2 ห้อง 301 | K91: เขตรับผิดชอบความสะอาด
A92: พ. | B92: โฮมรูม/PLC | C92: ม.3/1 ว23102 วิทยาศาสตร์ 6 ห้อง 301 | D92: ม.3/2 ว23202 โครงงานสิ่งประดิษฐ์ 2 ห้อง 302 | E92: ม.2/2 ว22102 วิทยาศาสตร์ 4 ห้อง 202 | F92: --- | G92: -X- | H92: ม.2/1 ว22102 วิทยาศาสตร์ 4 ห้อง 201 | I92: ม.3/2 ว23102 วิทยาศาสตร์ 6 ห้อง 302 | J92: --- | K92: เขตรับผิดชอบความสะอาด
A93: พฤ. | B93: โฮมรูม/PLC | C93: --- | D93: ม.2/2 ว22202 โครงงานทดลอง ห้อง 202 | E93: --- | F93: ม.3/1 ว23102 วิทยาศาสตร์ 6 ห้อง 301 | G93: -X- | H93: --- | I93: ชุมนุม | J93: กีฬา | K93: เขตรับผิดชอบความสะอาด
A94: ศ. | B94: โฮมรูม/PLC | C94: ม.3/2 ว23102 วิทยาศาสตร์ 6 ห้อง 302 | D94: --- | E94: ม.2/1 ว22102 วิทยาศาสตร์ 4 ห้อง 201 | F94: --- | G94: -X- | H94: --- | I94: ม.2/2 ว22102 วิทยาศาสตร์ 4 ห้อง 202 | J94: คุณธรรม จริยธรรม | K94: เขตรับผิดชอบความสะอาด
A95: Timetable generated with FET 6.26.2 on 28/10/2026 | โรงเรียนเดื่อวิทยาคาร
B97: ลงชื่อ..................................................หัวหน้ากลุ่มบริหารงานวิชาการ | H97: ลงชื่อ..........................................................ผู้อำนวยการสถานศึกษา
C103: ตารางสอนโรงเรียนเดื่อวิทยาคาร ภาคเรียนที่ 2 ปีการศึกษา 2569
C104: ครูผู้สอน: นางสาวพาณิชย์ เบ้าแก้ว
A106: วัน / คาบ | B106: 08:25 - 08:40 | C106: 08:40 - 09.30 | D106: 09:30 - 10.20 | E106: 10:20 - 11:10 | F106: 11:10 - : 12:00 | G106: พักเที่ยง | H106: 13:00 - 13:50 | I106: 13:50 - 14:40 | J106: 14:40 - 15:30 | K106: 15:30 - 16:00
A107: จ. | B107: โฮมรูม/PLC | C107: --- | D107: --- | E107: ม.2 ว22204 สวนพฤกษศาสตร์ 1 ห้องวิทย์ | F107: --- | G107: -X- | H107: --- | I107: ม.1/2 Self Study ห้อง 102 | J107: ม.1 ลดเวลาเรียน เพิ่มเวลารู้ | K107: เขตรับผิดชอบความสะอาด
A108: อ. | B108: โฮมรูม/PLC | C108: --- | D108: --- | E108: --- | F108: ม.5/2 ง32261 ความถนัดทางอาชีพ 2 | G108: -X- | H108: ท22202 เสริมทักษะการเขียนร้อยกรอง | I108: ม.2/2 ว22104 การออกแบบและเทคโนโลยี 2 ห้องคอมฯ | J108: ม.2/1 ว22104 การออกแบบและเทคโนโลยี 2 ห้องคอมฯ | K108: เขตรับผิดชอบความสะอาด
A109: พ. | B109: โฮมรูม/PLC | C109: --- | D109: --- | E109: --- | F109: ม.1/1 ว21202 การศึกษาค้นคว้าและสารสนเทศ ห้องคอมฯ | G109: -X- | H109: --- | I109: --- | J109: ม.1 ลูกเสือ-เนตรนารี | K109: เขตรับผิดชอบความสะอาด
A110: พฤ. | B110: โฮมรูม/PLC | C110: --- | D110: --- | E110: ม.4/1 ว31242 ชีววิทยา 2 ห้องวิทย์ | G110: -X- | H110: ม.1/2 ว21104 การออกแบบและเทคโนโลยี 1 ห้องคอมฯ | I110: ชุมนุม | J110: กีฬา | K110: เขตรับผิดชอบความสะอาด
A111: ศ. | B111: โฮมรูม/PLC | C111: ม.1/1 ว21104 การออกแบบและเทคโนโลยี 1 ห้องคอมฯ | D111: ม.1/1 ว21202 การศึกษาค้นคว้าและสารสนเทศ ห้องคอมฯ | E111: ท23202 นิทานพื้นบ้าน 2 | G111: -X- | H111: ม.4/1 ว31242 ชีววิทยา 2 ห้องวิทย์ | I111: ม.1/2 Self Study ห้อง 102 | J111: คุณธรรม จริยธรรม | K111: เขตรับผิดชอบความสะอาด
A112: Timetable generated with FET 6.26.2 on 28/10/2026 | โรงเรียนเดื่อวิทยาคาร
B114: ลงชื่อ..................................................หัวหน้ากลุ่มบริหารงานวิชาการ | H114: ลงชื่อ..........................................................ผู้อำนวยการสถานศึกษา
C120: ตารางสอนโรงเรียนเดื่อวิทยาคาร ภาคเรียนที่ 2 ปีการศึกษา 2569
C121: ครูผู้สอน: นายจตุรวิทย์ วงละคร
A123: วัน / คาบ | B123: 08:25 - 08:40 | C123: 08:40 - 09.30 | D123: 09:30 - 10.20 | E123: 10:20 - 11:10 | F123: 11:10 - : 12:00 | G123: พักเที่ยง | H123: 13:00 - 13:50 | I123: 13:50 - 14:40 | J123: 14:40 - 15:30 | K123: 15:30 - 16:00
A124: จ. | B124: โฮมรูม/PLC | C124: --- | D124: ม.4/1 ว31202 ฟิสิกส์ 2 ห้องเคมี-ฟิสิกส์ | E124: ม.5 ว32101 วิทยาศาสตร์กายภาพ (ฟิสิกส์) ห้องเคมี-ฟิสิกส์ | F124: ม.4 ส31252 การป้องกันการทุจริต 2 ห้องเคมี-ฟิสิกส์ | G124: -X- | H124: --- | I124: --- | J124: ม.3 ลดเวลาเรียน เพิ่มเวลารู้ | K124: เขตรับผิดชอบความสะอาด
A125: อ. | B125: โฮมรูม/PLC | C125: --- | D125: --- | E125: ม.5/1 ว32202 ฟิสิกส์ 4 ห้องเคมี-ฟิสิกส์ | G125: -X- | H125: ม.6/1 ว33202 ฟิสิกส์ 6 ห้องเคมี-ฟิสิกส์ | J125: --- | K125: เขตรับผิดชอบความสะอาด
A126: พ. | B126: โฮมรูม/PLC | C126: --- | D126: --- | E126: ม.5/1 ว32202 ฟิสิกส์ 4 ห้องเคมี-ฟิสิกส์ | F126: ม.5 ส32252 การป้องกันการทุจริต 4 ห้องเคมี-ฟิสิกส์ | G126: -X- | H126: --- | I126: --- | J126: --- | K126: เขตรับผิดชอบความสะอาด
A127: พฤ. | B127: โฮมรูม/PLC | C127: ม.5 ว32101 วิทยาศาสตร์กายภาพ (ฟิสิกส์) ห้องเคมี-ฟิสิกส์ | E127: ม.6/1 ว33261 โลกดาราศาสตร์และอวกาศ 3 ห้องเคมี-ฟิสิกส์ | F127: --- | G127: -X- | H127: --- | I127: ชุมนุม | J127: กีฬา | K127: เขตรับผิดชอบความสะอาด
A128: ศ. | B128: โฮมรูม/PLC | C128: ม.4/1 ว31202 ฟิสิกส์ 2 ห้องเคมี-ฟิสิกส์ | E128: --- | F128: --- | G128: -X- | H128: ม.6/1 ว33261 โลกดาราศาสตร์และอวกาศ 3 ห้องเคมี-ฟิสิกส์ | I128: ม.6/1 ว33202 ฟิสิกส์ 6 ห้องเคมี-ฟิสิกส์ | J128: คุณธรรม จริยธรรม | K128: เขตรับผิดชอบความสะอาด
A129: Timetable generated with FET 6.26.2 on 28/10/2026 | โรงเรียนเดื่อวิทยาคาร
B131: ลงชื่อ..................................................หัวหน้ากลุ่มบริหารงานวิชาการ | H131: ลงชื่อ..........................................................ผู้อำนวยการสถานศึกษา
C137: ตารางสอนโรงเรียนเดื่อวิทยาคาร ภาคเรียนที่ 2 ปีการศึกษา 2569
C138: ครูผู้สอน: นางสาวเพชราภรณ์ สุวรรณวงษ์
A140: วัน / คาบ | B140: 08:25 - 08:40 | C140: 08:40 - 09.30 | D140: 09:30 - 10.20 | E140: 10:20 - 11:10 | F140: 11:10 - : 12:00 | G140: พักเที่ยง | H140: 13:00 - 13:50 | I140: 13:50 - 14:40 | J140: 14:40 - 15:30 | K140: 15:30 - 16:00
A141: จ. | B141: โฮมรูม/PLC | C141: ม.6/1 ว33242 ชีววิทยา 6 ห้องวิทย์ | E141: --- | F141: --- | G141: -X- | H141: ม.1/2 ว21102 วิทยาศาสตร์ 2 ห้องวิทย์ | I141: ม.5/1 ว32242 ชีววิทยา 4 ห้องวิทย์ | J141: --- | K141: เขตรับผิดชอบความสะอาด
A142: อ. | B142: โฮมรูม/PLC | C142: --- | D142: ม.4/2 Self Study | E142: ม.1/1 ว21102 วิทยาศาสตร์ 2 ห้องวิทย์ | F142: --- | G142: -X- | H142: --- | I142: --- | J142: ม.4/2 กิจกรรมแนะแนว | K142: เขตรับผิดชอบความสะอาด
A143: พ. | B143: โฮมรูม/PLC | C143: ม.4/2 Self Study | D143: --- | E143: --- | F143: ม.1/2 ว21102 วิทยาศาสตร์ 2 ห้องวิทย์ | G143: -X- | H143: ม.1/1 ว21102 วิทยาศาสตร์ 2 ห้องวิทย์ | I143: ม.6/1 ว33242 ชีววิทยา 6 ห้องวิทย์ | J143: --- | K143: เขตรับผิดชอบความสะอาด
A144: พฤ. | B144: โฮมรูม/PLC | C144: --- | D144: ม.4/2 ง31212 เทคนิคการขายและการเจรจาต่อรอง ห้องคอมฯ | F144: --- | G144: -X- | H144: ม.6/1 พ33203 เพศศึกษา 6 ห้อง 601 | I144: ชุมนุม | J144: กีฬา | K144: เขตรับผิดชอบความสะอาด
A145: ศ. | B145: โฮมรูม/PLC | C145: ม.1/2 ว21102 วิทยาศาสตร์ 2 ห้องวิทย์ | D145: ม.4/2 Self Study | E145: ม.5/1 ว32242 ชีววิทยา 4 ห้องวิทย์ | G145: -X- | H145: --- | I145: ม.1/1 ว21102 วิทยาศาสตร์ 2 ห้องวิทย์ | J145: คุณธรรม จริยธรรม | K145: เขตรับผิดชอบความสะอาด
A146: Timetable generated with FET 6.26.2 on 28/10/2026 | โรงเรียนเดื่อวิทยาคาร
B148: ลงชื่อ..................................................หัวหน้ากลุ่มบริหารงานวิชาการ | H148: ลงชื่อ..........................................................ผู้อำนวยการสถานศึกษา
C154: ตารางสอนโรงเรียนเดื่อวิทยาคาร ภาคเรียนที่ 2 ปีการศึกษา 2569
C155: ครูผู้สอน: นางสาวปนัดดา กล้ารมรัญ
A157: วัน / คาบ | B157: 08:25 - 08:40 | C157: 08:40 - 09.30 | D157: 09:30 - 10.20 | E157: 10:20 - 11:10 | F157: 11:10 - : 12:00 | G157: พักเที่ยง | H157: 13:00 - 13:50 | I157: 13:50 - 14:40 | J157: 14:40 - 15:30 | K157: 15:30 - 16:00
A158: จ. | B158: โฮมรูม/PLC | C158: ม.5/1 ว32222 เคมี 4 ห้องเคมี-ฟิสิกส์ | D158: --- | E158: --- | F158: --- | G158: -X- | H158: ม.3/1 ว23104 การออกแบบและเทคโนโลยี 3 ห้องคอมฯ | I158: --- | J158: ม.4/1 ว31222 เคมี 2 ห้องเคมี-ฟิสิกส์ | K158: เขตรับผิดชอบความสะอาด
A159: อ. | B159: โฮมรูม/PLC | C159: ม.5/1 ว32222 เคมี 4 ห้องเคมี-ฟิสิกส์ | E159: ม.2/1 กิจกรรมแนะแนว ห้อง 201 | F159: ว21203 วิทยาศาสตร์กับการแก้ปัญหา | G159: -X- | H159: --- | I159: --- | J159: --- | K159: เขตรับผิดชอบความสะอาด
A160: พ. | B160: โฮมรูม/PLC | C160: ม.6/1 ว33222 เคมี 6 ห้องเคมี-ฟิสิกส์ | E160: --- | F160: ม.2 Self Study ห้องอาเซียน | G160: -X- | H160: ม.4/1 ว31222 เคมี 2 ห้องเคมี-ฟิสิกส์ | J160: ม.2 ลูกเสือ-เนตรนารี | K160: เขตรับผิดชอบความสะอาด
A161: พฤ. | B161: โฮมรูม/PLC | C161: ม.2 Self Study ห้องอาเซียน | D161: --- | E161: --- | F161: --- | G161: -X- | H161: --- | I161: ชุมนุม | J161: กีฬา | K161: เขตรับผิดชอบความสะอาด
A162: ศ. | B162: โฮมรูม/PLC | C162: --- | D162: --- | E162: ว23203 ชีวิตกับสิ่งแวดล้อม | G162: -X- | H162: ม.3/2 ว23104 การออกแบบและเทคโนโลยี 3 ห้องคอมฯ | I162: --- | J162: คุณธรรม จริยธรรม | K162: เขตรับผิดชอบความสะอาด
A163: Timetable generated with FET 6.26.2 on 28/10/2026 | โรงเรียนเดื่อวิทยาคาร
B165: ลงชื่อ..................................................หัวหน้ากลุ่มบริหารงานวิชาการ | H165: ลงชื่อ..........................................................ผู้อำนวยการสถานศึกษา
...

Sheet ตารางสอนรายชั้นเรียน
C1: ตารางสอนโรงเรียนเดื่อวิทยาคาร ภาคเรียนที่ 2 ปีการศึกษา 2569
C2: ชั้นเรียน: ม.1/1
A4: วัน / คาบ | B4: 08:25 - 08:40 | C4: 08:40 - 09.30 | D4: 09:30 - 10.20 | E4: 10:20 - 11:10 | F4: 11:10 - : 12:00 | G4: พักเที่ยง | H4: 13:00 - 13:50 | I4: 13:50 - 14:40 | J4: 14:40 - 15:30 | K4: 15:30 - 16:00
A5: จ. | B5: โฮมรูม/PLC | C5: อ21102 ภาษาอังกฤษ 2 (ช่อชัยพฤกษ์) [ห้องอังกฤษ] | D5: พ21102 สุขศึกษาและพลศึกษา 2 (วีระพงษ์) | E5: ค21102 คณิตศาสตร์ 2 (วิลาวัลย์, ห้องคณิต) | F5: ศ21102 ศิลปะ 2 (นิรันดร, ห้องศิลปะ) | G5: -X- | H5: กิจกรรมแนะแนว (สุดารัตน์, ห้อง 101) | I5: Self Study (สุดารัตน์, ห้อง 101) | J5: ลดเวลาเรียน เพิ่มเวลารู้ (สุดารัตน์, พาณิชย์) | K5: เขตรับผิดชอบความสะอาด
A6: อ. | B6: โฮมรูม/PLC | C6: ส21104 ประวัติศาสตร์ 2 (ชนม์สิตา, ห้องอาเซียน) | D6: ท21102 ภาษาไทย 2 (วิลาวัณย์, ห้องพยาบาล) | E6: ว21102 วิทยาศาสตร์ 2 (เพชราภรณ์, ห้องวิทย์) | F6: วิชาเลือกเสรี ม.1 | G6: -X- | H6: อ21102 ภาษาอังกฤษ 2 (ช่อชัยพฤกษ์) [ห้องอังกฤษ] | I6: ส21103 สังคมศึกษา 2 (ชนม์สิตา, ห้องอาเซียน) | J6: ค21102 คณิตศาสตร์ 2 (วิลาวัลย์, ห้องคณิต) | K6: เขตรับผิดชอบความสะอาด
A7: พ. | B7: โฮมรูม/PLC | C7: ท21102 ภาษาไทย 2 (วิลาวัณย์, ห้องพยาบาล) | D7: ส21103 สังคมศึกษา 2 (ชนม์สิตา, ห้องอาเซียน) | E7: ส21252 การป้องกันการทุจริต 2 (วิลาวัลย์, ห้อง 101) | F7: ว21202 การศึกษาค้นคว้าและสารสนเทศ (พาณิชย์, พัชญ์ชิสา) [ห้องคอมฯ] | G7: -X- | H7: ว21102 วิทยาศาสตร์ 2 (เพชราภรณ์, ห้องวิทย์) | I7: อ21102 ภาษาอังกฤษ 2 (ช่อชัยพฤกษ์) [ห้องอังกฤษ] | J7: ลูกเสือ-เนตรนารี (สุดารัตน์, พาณิชย์) | K7: เขตรับผิดชอบความสะอาด
A8: พฤ. | B8: โฮมรูม/PLC | C8: ท21102 ภาษาไทย 2 (วิลาวัณย์, ห้องพยาบาล) | D8: ส21103 สังคมศึกษา 2 (ชนม์สิตา, ห้องอาเซียน) | E8: ง21102 การงานอาชีพฯ 2 (สุดารัตน์, ห้อง 101) | G8: -X- | H8: Self Study (สุดารัตน์, ห้อง 101) | I8: ชุมนุม | J8: กีฬา | K8: เขตรับผิดชอบความสะอาด
A9: ศ. | B9: โฮมรูม/PLC | C9: ว21104 การออกแบบและเทคโนโลยี 1 (พาณิชย์, พัชญ์ชิสา) [ห้องคอมฯ] | D9: ว21202 การศึกษาค้นคว้าและสารสนเทศ (พาณิชย์, พัชญ์ชิสา) [ห้องคอมฯ] | E9: ศ21102 ศิลปะ 2 (นิรันดร, ห้องศิลปะ) | F9: ค21102 คณิตศาสตร์ 2 (วิลาวัลย์, ห้องคณิต) | G9: -X- | H9: พ21102 สุขศึกษาและพลศึกษา 2 (วีระพงษ์, สนามกีฬา) | I9: ว21102 วิทยาศาสตร์ 2 (เพชราภรณ์, ห้องวิทย์) | J9: คุณธรรม จริยธรรม | K9: เขตรับผิดชอบความสะอาด
A10: Timetable generated with FET 6.26.2 on 28/10/2026 | โรงเรียนเดื่อวิทยาคาร
B12: ลงชื่อ..................................................หัวหน้ากลุ่มบริหารงานวิชาการ | H12: ลงชื่อ..........................................................ผู้อำนวยการสถานศึกษา
C18: ตารางสอนโรงเรียนเดื่อวิทยาคาร ภาคเรียนที่ 2 ปีการศึกษา 2569
C19: ชั้นเรียน: ม.1/2
A21: วัน / คาบ | B21: 08:25 - 08:40 | C21: 08:40 - 09.30 | D21: 09:30 - 10.20 | E21: 10:20 - 11:10 | F21: 11:10 - : 12:00 | G21: พักเที่ยง | H21: 13:00 - 13:50 | I21: 13:50 - 14:40 | J21: 14:40 - 15:30 | K21: 15:30 - 16:00
A22: จ. | B22: โฮมรูม/PLC | C22: อ21102 ภาษาอังกฤษ 2 (ช่อชัยพฤกษ์) [ห้องอังกฤษ] | D22: พ21102 สุขศึกษาและพลศึกษา 2 (วีระพงษ์) | E22: ค21102 คณิตศาสตร์ 2 (วิลาวัลย์, ห้องคณิต) | F22: ส21252 การป้องกันการทุจริต 2 (วิลาวัลย์, ห้อง 102) | G22: -X- | H22: ว21102 วิทยาศาสตร์ 2 (เพชราภรณ์, ห้องวิทย์) | I22: Self Study (พาณิชย์, ห้อง 102) | J22: ลดเวลาเรียน เพิ่มเวลารู้ (สุดารัตน์, พาณิชย์) | K22: เขตรับผิดชอบความสะอาด
A23: อ. | B23: โฮมรูม/PLC | C23: ส21104 ประวัติศาสตร์ 2 (ชนม์สิตา, ห้องอาเซียน) | D23: ท21102 ภาษาไทย 2 (วิลาวัณย์, ห้องพยาบาล) | E23: ว21202 การศึกษาค้นคว้าและสารสนเทศ (วิลาวัลย์, พัชญ์ชิสา) [ห้องคอมฯ] | F23: วิชาเลือกเสรี ม.1 | G23: -X- | H23: อ21102 ภาษาอังกฤษ 2 (ช่อชัยพฤกษ์) [ห้องอังกฤษ] | I23: ส21103 สังคมศึกษา 2 (ชนม์สิตา, ห้องอาเซียน) | J23: ค21102 คณิตศาสตร์ 2 (วิลาวัลย์, ห้องคณิต) | K23: เขตรับผิดชอบความสะอาด
A24: พ. | B24: โฮมรูม/PLC | C24: ท21102 ภาษาไทย 2 (วิลาวัณย์, ห้องพยาบาล) | D24: ส21103 สังคมศึกษา 2 (ชนม์สิตา, ห้องอาเซียน) | E24: ศ21102 ศิลปะ 2 (นิรันดร, ห้องศิลปะ) | F24: ว21102 วิทยาศาสตร์ 2 (เพชราภรณ์, ห้องวิทย์) | G24: -X- | H24: กิจกรรมแนะแนว (ศุภกิตติ์, ห้อง 102) | I24: อ21102 ภาษาอังกฤษ 2 (ช่อชัยพฤกษ์) [ห้องอังกฤษ] | J24: ลูกเสือ-เนตรนารี (สุดารัตน์, พาณิชย์) | K24: เขตรับผิดชอบความสะอาด
A25: พฤ. | B25: โฮมรูม/PLC | C25: ท21102 ภาษาไทย 2 (วิลาวัณย์, ห้องพยาบาล) | D25: ส21103 สังคมศึกษา 2 (ชนม์สิตา, ห้องอาเซียน) | E25: ศ21102 ศิลปะ 2 (นิรันดร, ห้องศิลปะ) | F25: ว21202 การศึกษาค้นคว้าและสารสนเทศ (วิลาวัลย์, พัชญ์ชิสา) [ห้องคอมฯ] | G25: -X- | H25: ว21104 การออกแบบและเทคโนโลยี 1 (พาณิชย์, พัชญ์ชิสา) [ห้องคอมฯ] | I25: ชุมนุม | J25: กีฬา | K25: เขตรับผิดชอบความสะอาด
A26: ศ. | B26: โฮมรูม/PLC | C26: ว21102 วิทยาศาสตร์ 2 (เพชราภรณ์, ห้องวิทย์) | D26: ง21102 การงานอาชีพฯ 2 (สุดารัตน์, ห้อง 102) | F26: ค21102 คณิตศาสตร์ 2 (วิลาวัลย์, ห้องคณิต) | G26: -X- | H26: พ21102 สุขศึกษาและพลศึกษา 2 (วีระพงษ์, สนามกีฬา) | I26: Self Study (พาณิชย์, ห้อง 102) | J26: คุณธรรม จริยธรรม | K26: เขตรับผิดชอบความสะอาด
A27: Timetable generated with FET 6.26.2 on 28/10/2026 | โรงเรียนเดื่อวิทยาคาร
B29: ลงชื่อ..................................................หัวหน้ากลุ่มบริหารงานวิชาการ | H29: ลงชื่อ..........................................................ผู้อำนวยการสถานศึกษา
C35: ตารางสอนโรงเรียนเดื่อวิทยาคาร ภาคเรียนที่ 2 ปีการศึกษา 2569
C36: ชั้นเรียน: ม.2/1
A38: วัน / คาบ | B38: 08:25 - 08:40 | C38: 08:40 - 09.30 | D38: 09:30 - 10.20 | E38: 10:20 - 11:10 | F38: 11:10 - : 12:00 | G38: พักเที่ยง | H38: 13:00 - 13:50 | I38: 13:50 - 14:40 | J38: 14:40 - 15:30 | K38: 15:30 - 16:00
A39: จ. | B39: โฮมรูม/PLC | C39: ค22102 คณิตศาสตร์ 4 (ญารินดา, ห้อง 201) | D39: อ22102 ภาษาอังกฤษ 4 (ศุภกิตติ์, ห้องอังกฤษ) | E39: ว22204 สวนพฤกษศาสตร์ 1 (พาณิชย์, ห้องวิทย์) | F39: พ22103 สุขศึกษาและพลศึกษา 4 (วีระพงษ์) | G39: -X- | H39: ว22202 โครงงานทดลอง (กิตติวัฒน์, ห้อง 201) | I39: ส22103 สังคมศึกษา 4 (ณัฐวิภา, ห้องอาเซียน) | J39: ลดเวลาเรียน เพิ่มเวลารู้ (กิตติวัฒน์, ชนม์สิตา) | K39: เขตรับผิดชอบความสะอาด
A40: อ. | B40: โฮมรูม/PLC | C40: ส22252 การป้องกันการทุจริต 4 (มตรส, ห้อง 201) | D40: ส22104 ประวัติศาสตร์ 4 (ณัฐวิภา, ห้องอาเซียน) | E40: กิจกรรมแนะแนว (ปนัดดา, ห้อง 201) | F40: ส22103 สังคมศึกษา 4 (ณัฐวิภา, ห้องอาเซียน) | G40: -X- | H40: วิชาเลือกเสรี ม.2 | I40: ว22102 วิทยาศาสตร์ 4 (กิตติวัฒน์, ห้อง 201) | J40: ว22104 การออกแบบและเทคโนโลยี 2 (พาณิชย์, พัชญ์ชิสา) [ห้องคอมฯ] | K40: เขตรับผิดชอบความสะอาด
A41: พ. | B41: โฮมรูม/PLC | C41: ส22103 สังคมศึกษา 4 (ณัฐวิภา, ห้องอาเซียน) | D41: ท22102 ภาษาไทย 4 (วิลาวัณย์, ห้องพยาบาล) | E41: ศ22102 ศิลปะ 4 (มตรส, ห้องดนตรี) | F41: Self Study (ปนัดดา, ณัฐวิภา) [ห้องอาเซียน] | G41: -X- | H41: ว22102 วิทยาศาสตร์ 4 (กิตติวัฒน์, ห้อง 201) | I41: ค22102 คณิตศาสตร์ 4 (ญารินดา, ห้อง 201) | J41: ลูกเสือ-เนตรนารี (ศุภกิตติ์, ปนัดดา) | K41: เขตรับผิดชอบความสะอาด
A42: พฤ. | B42: โฮมรูม/PLC | C42: Self Study (ปนัดดา, ณัฐวิภา) [ห้องอาเซียน] | D42: ค22102 คณิตศาสตร์ 4 (ญารินดา, ห้อง 201) | E42: ท22102 ภาษาไทย 4 (วิลาวัณย์, ห้องพยาบาล) | F42: อ22102 ภาษาอังกฤษ 4 (ศุภกิตติ์, ห้องอังกฤษ) | G42: -X- | H42: พ22103 สุขศึกษาและพลศึกษา 4 (วีระพงษ์, สนามกีฬา) | I42: ชุมนุม | J42: กีฬา | K42: เขตรับผิดชอบความสะอาด
A43: ศ. | B43: โฮมรูม/PLC | C43: ศ22102 ศิลปะ 4 (มตรส, ห้องดนตรี) | D43: อ22102 ภาษาอังกฤษ 4 (ศุภกิตติ์, ห้องอังกฤษ) | E43: ว22102 วิทยาศาสตร์ 4 (กิตติวัฒน์, ห้อง 201) | F43: ท22102 ภาษาไทย 4 (วิลาวัณย์, ห้องพยาบาล) | G43: -X- | H43: ง22102 การงานอาชีพฯ 4 (สุดารัตน์, ห้อง 201) | J43: คุณธรรม จริยธรรม | K43: เขตรับผิดชอบความสะอาด
A44: Timetable generated with FET 6.26.2 on 28/10/2026 | โรงเรียนเดื่อวิทยาคาร
B46: ลงชื่อ..................................................หัวหน้ากลุ่มบริหารงานวิชาการ | H46: ลงชื่อ..........................................................ผู้อำนวยการสถานศึกษา
C52: ตารางสอนโรงเรียนเดื่อวิทยาคาร ภาคเรียนที่ 2 ปีการศึกษา 2569
C53: ชั้นเรียน: ม.2/2
A55: วัน / คาบ | B55: 08:25 - 08:40 | C55: 08:40 - 09.30 | D55: 09:30 - 10.20 | E55: 10:20 - 11:10 | F55: 11:10 - : 12:00 | G55: พักเที่ยง | H55: 13:00 - 13:50 | I55: 13:50 - 14:40 | J55: 14:40 - 15:30 | K55: 15:30 - 16:00
A56: จ. | B56: โฮมรูม/PLC | C56: ศ22102 ศิลปะ 4 (มตรส, ห้องดนตรี) | D56: อ22102 ภาษาอังกฤษ 4 (ศุภกิตติ์, ห้องอังกฤษ) | E56: ว22204 สวนพฤกษศาสตร์ 1 (พาณิชย์, ห้องวิทย์) | F56: พ22103 สุขศึกษาและพลศึกษา 4 (วีระพงษ์) | G56: -X- | H56: ค22102 คณิตศาสตร์ 4 (ญารินดา, ห้อง 202) | I56: ส22103 สังคมศึกษา 4 (ณัฐวิภา, ห้องอาเซียน) | J56: ลดเวลาเรียน เพิ่มเวลารู้ (กิตติวัฒน์, ชนม์สิตา) | K56: เขตรับผิดชอบความสะอาด
A57: อ. | B57: โฮมรูม/PLC | C57: ว22102 วิทยาศาสตร์ 4 (กิตติวัฒน์, ห้อง 202) | D57: ส22104 ประวัติศาสตร์ 4 (ณัฐวิภา, ห้องอาเซียน) | E57: ค22102 คณิตศาสตร์ 4 (ญารินดา, ห้อง 202) | F57: ส22103 สังคมศึกษา 4 (ณัฐวิภา, ห้องอาเซียน) | G57: -X- | H57: วิชาเลือกเสรี ม.2 | I57: ว22104 การออกแบบและเทคโนโลยี 2 (พาณิชย์, พัชญ์ชิสา) [ห้องคอมฯ] | J57: กิจกรรมแนะแนว (ณัฐวิภา, ห้อง 202) | K57: เขตรับผิดชอบความสะอาด
A58: พ. | B58: โฮมรูม/PLC | C58: ส22103 สังคมศึกษา 4 (ณัฐวิภา, ห้องอาเซียน) | D58: ท22102 ภาษาไทย 4 (วิลาวัณย์, ห้องพยาบาล) | E58: ว22102 วิทยาศาสตร์ 4 (กิตติวัฒน์, ห้อง 202) | F58: Self Study (ปนัดดา, ณัฐวิภา) [ห้องอาเซียน] | G58: -X- | H58: ง22102 การงานอาชีพฯ 4 (สุดารัตน์, ห้อง 202) | J58: ลูกเสือ-เนตรนารี (ศุภกิตติ์, ปนัดดา) | K58: เขตรับผิดชอบความสะอาด
A59: พฤ. | B59: โฮมรูม/PLC | C59: Self Study (ปนัดดา, ณัฐวิภา) [ห้องอาเซียน] | D59: ว22202 โครงงานทดลอง (กิตติวัฒน์, ห้อง 202) | E59: ท22102 ภาษาไทย 4 (วิลาวัณย์, ห้องพยาบาล) | F59: อ22102 ภาษาอังกฤษ 4 (ศุภกิตติ์, ห้องอังกฤษ) | G59: -X- | H59: พ22103 สุขศึกษาและพลศึกษา 4 (วีระพงษ์, สนามกีฬา) | I59: ชุมนุม | J59: กีฬา | K59: เขตรับผิดชอบความสะอาด
A60: ศ. | B60: โฮมรูม/PLC | C60: ค22102 คณิตศาสตร์ 4 (ญารินดา, ห้อง 202) | D60: อ22102 ภาษาอังกฤษ 4 (ศุภกิตติ์, ห้องอังกฤษ) | E60: ส22252 การป้องกันการทุจริต 4 (มตรส, ห้อง 202) | F60: ท22102 ภาษาไทย 4 (วิลาวัณย์, ห้องพยาบาล) | G60: -X- | H60: ศ22102 ศิลปะ 4 (มตรส, ห้องดนตรี) | I60: ว22102 วิทยาศาสตร์ 4 (กิตติวัฒน์, ห้อง 202) | J60: คุณธรรม จริยธรรม | K60: เขตรับผิดชอบความสะอาด
A61: Timetable generated with FET 6.26.2 on 28/10/2026 | โรงเรียนเดื่อวิทยาคาร
B63: ลงชื่อ..................................................หัวหน้ากลุ่มบริหารงานวิชาการ | H63: ลงชื่อ..........................................................ผู้อำนวยการสถานศึกษา
C69: ตารางสอนโรงเรียนเดื่อวิทยาคาร ภาคเรียนที่ 2 ปีการศึกษา 2569
C70: ชั้นเรียน: ม.3/1
A72: วัน / คาบ | B72: 08:25 - 08:40 | C72: 08:40 - 09.30 | D72: 09:30 - 10.20 | E72: 10:20 - 11:10 | F72: 11:10 - : 12:00 | G72: พักเที่ยง | H72: 13:00 - 13:50 | I72: 13:50 - 14:40 | J72: 14:40 - 15:30 | K72: 15:30 - 16:00
A73: จ. | B73: โฮมรูม/PLC | C73: ค23102 คณิตศาสตร์ 6 (วิลาวัลย์, ห้องคณิต) | D73: พ23103 สุขศึกษาและพลศึกษา 6 (มตรส) | E73: อ23102 ภาษาอังกฤษ 6 (ช่อชัยพฤกษ์) [ห้องอังกฤษ] | F73: ศ23102 ศิลปะ 6 (มตรส, ห้องดนตรี) | G73: -X- | H73: ว23104 การออกแบบและเทคโนโลยี 3 (ปนัดดา, พัชญ์ชิสา) [ห้องคอมฯ] | I73: ว23102 วิทยาศาสตร์ 6 (กิตติวัฒน์, ห้อง 301) | J73: ลดเวลาเรียน เพิ่มเวลารู้ (มตรส, จตุรวิทย์) | K73: เขตรับผิดชอบความสะอาด
A74: อ. | B74: โฮมรูม/PLC | C74: ท23102 ภาษาไทย 6 (วิลาวัณย์, ห้องพยาบาล) | D74: ส23103 สังคมศึกษา 6 (ชนม์สิตา, ห้อง 301) | E74: ส20236 หน้าที่พลเมือง 6 (ณัฐวิภา, ห้องอาเซียน) | F74: อ23102 ภาษาอังกฤษ 6 (ช่อชัยพฤกษ์) [ห้องอังกฤษ] | G74: -X- | H74: ศ23102 ศิลปะ 6 (มตรส, ห้องดนตรี) | I74: อ23202ภาษาอังกฤษเพื่อการสื่อสาร 6 (ศุภกิตติ์, ห้องอังกฤษ) | J74: ว23202 โครงงานสิ่งประดิษฐ์ 2 (กิตติวัฒน์, ห้อง 301) | K74: เขตรับผิดชอบความสะอาด
A75: พ. | B75: โฮมรูม/PLC | C75: ว23102 วิทยาศาสตร์ 6 (กิตติวัฒน์, ห้อง 301) | D75: ง23102 การงานอาชีพฯ 6 (สุดารัตน์, ห้อง 301) | F75: ท23102 ภาษาไทย 6 (วิลาวัณย์, ห้องพยาบาล) | G75: -X- | H75: ส23103 สังคมศึกษา 6 (ชนม์สิตา, ห้องอาเซียน) | I75: กิจกรรมแนะแนว (วิลาวัณย์, ห้อง 301) | J75: ลูกเสือ-เนตรนารี (วีระพงษ์, มตรส) | K75: เขตรับผิดชอบความสะอาด
A76: พฤ. | B76: โฮมรูม/PLC | C76: ค23102 คณิตศาสตร์ 6 (วิลาวัลย์, ห้องคณิต) | D76: ท23102 ภาษาไทย 6 (วิลาวัณย์, ห้องพยาบาล) | E76: ส23103 สังคมศึกษา 6 (ชนม์สิตา, ห้องอาเซียน) | F76: ว23102 วิทยาศาสตร์ 6 (กิตติวัฒน์, ห้อง 301) | G76: -X- | H76: อ23102 ภาษาอังกฤษ 6 (ช่อชัยพฤกษ์) [ห้องอังกฤษ] | I76: ชุมนุม | J76: กีฬา | K76: เขตรับผิดชอบความสะอาด
A77: ศ. | B77: โฮมรูม/PLC | C77: อ23202ภาษาอังกฤษเพื่อการสื่อสาร 6 (ศุภกิตติ์, ห้องอังกฤษ) | D77: ค23102 คณิตศาสตร์ 6 (วิลาวัลย์, ห้องคณิต) | E77: วิชาเลือกเสรี ม.3 | G77: -X- | H77: ส23104 ประวัติศาสตร์ 6 (ชนม์สิตา, ห้อง 301) | I77: พ23103 สุขศึกษาและพลศึกษา 6 (มตรส, สนามกีฬา) | J77: คุณธรรม จริยธรรม | K77: เขตรับผิดชอบความสะอาด
A78: Timetable generated with FET 6.26.2 on 28/10/2026 | โรงเรียนเดื่อวิทยาคาร
B80: ลงชื่อ..................................................หัวหน้ากลุ่มบริหารงานวิชาการ | H80: ลงชื่อ..........................................................ผู้อำนวยการสถานศึกษา
C86: ตารางสอนโรงเรียนเดื่อวิทยาคาร ภาคเรียนที่ 2 ปีการศึกษา 2569
C87: ชั้นเรียน: ม.3/2
A89: วัน / คาบ | B89: 08:25 - 08:40 | C89: 08:40 - 09.30 | D89: 09:30 - 10.20 | E89: 10:20 - 11:10 | F89: 11:10 - : 12:00 | G89: พักเที่ยง | H89: 13:00 - 13:50 | I89: 13:50 - 14:40 | J89: 14:40 - 15:30 | K89: 15:30 - 16:00
A90: จ. | B90: โฮมรูม/PLC | C90: ค23102 คณิตศาสตร์ 6 (วิลาวัลย์, ห้องคณิต) | D90: พ23103 สุขศึกษาและพลศึกษา 6 (มตรส) | E90: อ23102 ภาษาอังกฤษ 6 (ช่อชัยพฤกษ์) [ห้องอังกฤษ] | F90: อ23202ภาษาอังกฤษเพื่อการสื่อสาร 6 (ศุภกิตติ์, ห้องอังกฤษ) | G90: -X- | H90: ศ23102 ศิลปะ 6 (มตรส, ห้องดนตรี) | I90: ส23103 สังคมศึกษา 6 (ชนม์สิตา, ห้อง 302) | J90: ลดเวลาเรียน เพิ่มเวลารู้ (มตรส, จตุรวิทย์) | K90: เขตรับผิดชอบความสะอาด
A91: อ. | B91: โฮมรูม/PLC | C91: ท23102 ภาษาไทย 6 (วิลาวัณย์, ห้องพยาบาล) | D91: ว23102 วิทยาศาสตร์ 6 (กิตติวัฒน์, ห้อง 302) | E91: อ23202ภาษาอังกฤษเพื่อการสื่อสาร 6 (ศุภกิตติ์, ห้องอังกฤษ) | F91: อ23102 ภาษาอังกฤษ 6 (ช่อชัยพฤกษ์) [ห้องอังกฤษ] | G91: -X- | H91: ง23102 การงานอาชีพฯ 6 (สุดารัตน์, ห้อง 302) | J91: ส23104 ประวัติศาสตร์ 6 (ชนม์สิตา, ห้องอาเซียน) | K91: เขตรับผิดชอบความสะอาด
A92: พ. | B92: โฮมรูม/PLC | C92: ศ23102 ศิลปะ 6 (มตรส, ห้องดนตรี) | D92: ว23202 โครงงานสิ่งประดิษฐ์ 2 (กิตติวัฒน์, ห้อง 302) | E92: ส23103 สังคมศึกษา 6 (ชนม์สิตา, ห้อง 302) | F92: ท23102 ภาษาไทย 6 (วิลาวัณย์, ห้องพยาบาล) | G92: -X- | H92: กิจกรรมแนะแนว (มตรส, ห้อง 302) | I92: ว23102 วิทยาศาสตร์ 6 (กิตติวัฒน์, ห้อง 302) | J92: ลูกเสือ-เนตรนารี (วีระพงษ์, มตรส) | K92: เขตรับผิดชอบความสะอาด
A93: พฤ. | B93: โฮมรูม/PLC | C93: ค23102 คณิตศาสตร์ 6 (วิลาวัลย์, ห้องคณิต) | D93: ท23102 ภาษาไทย 6 (วิลาวัณย์, ห้องพยาบาล) | E93: ส20236 หน้าที่พลเมือง 6 (ณัฐวิภา, ห้อง 302) | F93: ส23103 สังคมศึกษา 6 (ชนม์สิตา, ห้องอาเซียน) | G93: -X- | H93: อ23102 ภาษาอังกฤษ 6 (ช่อชัยพฤกษ์) [ห้องอังกฤษ] | I93: ชุมนุม | J93: กีฬา | K93: เขตรับผิดชอบความสะอาด
A94: ศ. | B94: โฮมรูม/PLC | C94: ว23102 วิทยาศาสตร์ 6 (กิตติวัฒน์, ห้อง 302) | D94: ค23102 คณิตศาสตร์ 6 (วิลาวัลย์, ห้องคณิต) | E94: วิชาเลือกเสรี ม.3 | G94: -X- | H94: ว23104 การออกแบบและเทคโนโลยี 3 (ปนัดดา, พัชญ์ชิสา) [ห้องคอมฯ] | I94: พ23103 สุขศึกษาและพลศึกษา 6 (มตรส, สนามกีฬา) | J94: คุณธรรม จริยธรรม | K94: เขตรับผิดชอบความสะอาด
A95: Timetable generated with FET 6.26.2 on 28/10/2026 | โรงเรียนเดื่อวิทยาคาร
B97: ลงชื่อ..................................................หัวหน้ากลุ่มบริหารงานวิชาการ | H97: ลงชื่อ..........................................................ผู้อำนวยการสถานศึกษา
C103: ตารางสอนโรงเรียนเดื่อวิทยาคาร ภาคเรียนที่ 2 ปีการศึกษา 2569
C104: ชั้นเรียน: ม.4/1
A106: วัน / คาบ | B106: 08:25 - 08:40 | C106: 08:40 - 09.30 | D106: 09:30 - 10.20 | E106: 10:20 - 11:10 | F106: 11:10 - : 12:00 | G106: พักเที่ยง | H106: 13:00 - 13:50 | I106: 13:50 - 14:40 | J106: 14:40 - 15:30 | K106: 15:30 - 16:00
A107: จ. | B107: โฮมรูม/PLC | C107: ศ31102 ศิลปะ 2 (นิรันดร, ห้องศิลปะ) | D107: ว31202 ฟิสิกส์ 2 (จตุรวิทย์, เชษฐา) [ห้องเคมี-ฟิสิกส์] | E107: ค31202 คณิตศาสตร์เพิ่มเติม 2 (ญารินดา, ห้อง 401) | F107: ส31252 การป้องกันการทุจริต 2 (จตุรวิทย์) [ห้องเคมี-ฟิสิกส์] | G107: -X- | H107: พ31102 สุขศึกษาและพลศึกษา 2 (วีระพงษ์, สนามกีฬา) | I107: ค31102 คณิตศาสตร์ 2 (วิลาวัลย์, ห้องคณิต) | J107: ว31222 เคมี 2 (ปนัดดา) [ห้องเคมี-ฟิสิกส์] | K107: เขตรับผิดชอบความสะอาด
A108: อ. | B108: โฮมรูม/PLC | C108: อ31102 ภาษาอังกฤษ 2 (ศุภกิตติ์, ห้องอังกฤษ) | D108: ค31202 คณิตศาสตร์เพิ่มเติม 2 (ญารินดา, ห้อง 401) | E108: ง31102 การงานอาชีพฯ 2 (สุดารัตน์) | F108: ค31102 คณิตศาสตร์ 2 (วิลาวัลย์, ห้องคณิต) | G108: -X- | H108: ส31103 สังคมศึกษา 2 (ณัฐวิภา, ห้องอาเซียน) | I108: ท31102 ภาษาไทย 2 (วิลาวัณย์, ห้องพยาบาล) | J108: อ31203 โครงสร้างทางภาษาเบื้องต้น (ศุภกิตติ์, ห้องอังกฤษ) | K108: เขตรับผิดชอบความสะอาด
A109: พ. | B109: โฮมรูม/PLC | C109: ว31204 การใช้เทคโนโลยีดิจิทัลเพื่ออาชีพ (พัชญ์ชิสา, จิระศักดิ์, วรากร) [ห้องคอมฯ] | D109: ค31202 คณิตศาสตร์เพิ่มเติม 2 (ญารินดา, ห้อง 401) | E109: อ31102 ภาษาอังกฤษ 2 (ศุภกิตติ์, ห้องอังกฤษ) | F109: ค31102 คณิตศาสตร์ 2 (วิลาวัลย์, ห้องคณิต) | G109: -X- | H109: ว31222 เคมี 2 (ปนัดดา) [ห้องเคมี-ฟิสิกส์] | J109: ท31102 ภาษาไทย 2 (วิลาวัณย์, ห้องพยาบาล) | K109: เขตรับผิดชอบความสะอาด
A110: พฤ. | B110: โฮมรูม/PLC | C110: Self Study (ญารินดา, ห้อง 401) | D110: อ31203 โครงสร้างทางภาษาเบื้องต้น (ศุภกิตติ์, ห้องอังกฤษ) | E110: ว31242 ชีววิทยา 2 (พาณิชย์, ห้องวิทย์) | G110: -X- | H110: กิจกรรมแนะแนว (ญารินดา, ห้อง 401) | I110: ชุมนุม | J110: กีฬา | K110: เขตรับผิดชอบความสะอาด
A111: ศ. | B111: โฮมรูม/PLC | C111: ว31202 ฟิสิกส์ 2 (จตุรวิทย์, เชษฐา) [ห้องเคมี-ฟิสิกส์] | E111: อ31203 โครงสร้างทางภาษาเบื้องต้น (ศุภกิตติ์, ห้องอังกฤษ) | F111: ว31204 การใช้เทคโนโลยีดิจิทัลเพื่ออาชีพ (พัชญ์ชิสา, จิระศักดิ์, วรากร) [ห้องคอมฯ] | G111: -X- | H111: ว31242 ชีววิทยา 2 (พาณิชย์, ห้องวิทย์) | I111: ส31103 สังคมศึกษา 2 (ณัฐวิภา, ห้องอาเซียน) | J111: คุณธรรม จริยธรรม | K111: เขตรับผิดชอบความสะอาด
A112: Timetable generated with FET 6.26.2 on 28/10/2026 | โรงเรียนเดื่อวิทยาคาร
B114: ลงชื่อ..................................................หัวหน้ากลุ่มบริหารงานวิชาการ | H114: ลงชื่อ..........................................................ผู้อำนวยการสถานศึกษา
C120: ตารางสอนโรงเรียนเดื่อวิทยาคาร ภาคเรียนที่ 2 ปีการศึกษา 2569
C121: ชั้นเรียน: ม.4/2
A123: วัน / คาบ | B123: 08:25 - 08:40 | C123: 08:40 - 09.30 | D123: 09:30 - 10.20 | E123: 10:20 - 11:10 | F123: 11:10 - : 12:00 | G123: พักเที่ยง | H123: 13:00 - 13:50 | I123: 13:50 - 14:40 | J123: 14:40 - 15:30 | K123: 15:30 - 16:00
A124: จ. | B124: โฮมรูม/PLC | C124: ศ31102 ศิลปะ 2 (นิรันดร, ห้องศิลปะ) | D124: ง31265 เครื่องดื่มสร้างรายได้ (สุดารัตน์) | F124: ส31252 การป้องกันการทุจริต 2 (จตุรวิทย์) [ห้องเคมี-ฟิสิกส์] | G124: -X- | H124: พ31102 สุขศึกษาและพลศึกษา 2 (วีระพงษ์, สนามกีฬา) | I124: ค31102 คณิตศาสตร์ 2 (วิลาวัลย์, ห้องคณิต) | J124: อ31212 ภาษาอังกฤษเพื่อการสื่อสาร 2 (ช่อชัยพฤกษ์) [ห้องอังกฤษ] | K124: เขตรับผิดชอบความสะอาด
A125: อ. | B125: โฮมรูม/PLC | C125: อ31102 ภาษาอังกฤษ 2 (ศุภกิตติ์, ห้องอังกฤษ) | D125: Self Study (เพชราภรณ์) | E125: ง31102 การงานอาชีพฯ 2 (สุดารัตน์) | F125: ค31102 คณิตศาสตร์ 2 (วิลาวัลย์, ห้องคณิต) | G125: -X- | H125: ส31103 สังคมศึกษา 2 (ณัฐวิภา, ห้องอาเซียน) | I125: ท31102 ภาษาไทย 2 (วิลาวัณย์, ห้องพยาบาล) | J125: กิจกรรมแนะแนว (เพชราภรณ์) | K125: เขตรับผิดชอบความสะอาด
A126: พ. | B126: โฮมรูม/PLC | C126: Self Study (เพชราภรณ์) | D126: ศ31222 ทัศนศิลป์ 2 (นิรันดร, ห้องศิลปะ) | E126: อ31102 ภาษาอังกฤษ 2 (ศุภกิตติ์, ห้องอังกฤษ) | F126: ค31102 คณิตศาสตร์ 2 (วิลาวัลย์, ห้องคณิต) | G126: -X- | H126: อ31212 ภาษาอังกฤษเพื่อการสื่อสาร 2 (ช่อชัยพฤกษ์) [ห้องอังกฤษ] | I126: ศ31212 ดนตรีสากล 2 (มตรส, ห้องดนตรี) | J126: ท31102 ภาษาไทย 2 (วิลาวัณย์, ห้องพยาบาล) | K126: เขตรับผิดชอบความสะอาด
A127: พฤ. | B127: โฮมรูม/PLC | C127: ว31204 การใช้เทคโนโลยีดิจิทัลเพื่ออาชีพ (พัชญ์ชิสา, จิระศักดิ์, วรากร) [ห้องคอมฯ] | D127: ง31212 เทคนิคการขายและการเจรจาต่อรอง (เพชราภรณ์, ห้องคอมฯ) | F127: ศ31212 ดนตรีสากล 2 (มตรส, ห้องดนตรี) | G127: -X- | H127: ท31202 การเขียน 2 (วิลาวัณย์, ห้องพยาบาล) | I127: ชุมนุม | J127: กีฬา | K127: เขตรับผิดชอบความสะอาด
A128: ศ. | B128: โฮมรูม/PLC | C128: ท31202 การเขียน 2 (วิลาวัณย์, ห้องพยาบาล) | D128: Self Study (เพชราภรณ์) | E128: ว31204 การใช้เทคโนโลยีดิจิทัลเพื่ออาชีพ (พัชญ์ชิสา, จิระศักดิ์, วรากร) [ห้องคอมฯ] | F128: ศ31222 ทัศนศิลป์ 2 (นิรันดร, ห้องศิลปะ) | G128: -X- | H128: ส31206 การเงิน การคลัง การธนาคาร (ณัฐวิภา, ห้องอาเซียน) | I128: ส31103 สังคมศึกษา 2 (ณัฐวิภา, ห้องอาเซียน) | J128: คุณธรรม จริยธรรม | K128: เขตรับผิดชอบความสะอาด
A129: Timetable generated with FET 6.26.2 on 28/10/2026 | โรงเรียนเดื่อวิทยาคาร
B131: ลงชื่อ..................................................หัวหน้ากลุ่มบริหารงานวิชาการ | H131: ลงชื่อ..........................................................ผู้อำนวยการสถานศึกษา
C137: ตารางสอนโรงเรียนเดื่อวิทยาคาร ภาคเรียนที่ 2 ปีการศึกษา 2569
C138: ชั้นเรียน: ม.4/3
A140: วัน / คาบ | B140: 08:25 - 08:40 | C140: 08:40 - 09.30 | D140: 09:30 - 10.20 | E140: 10:20 - 11:10 | F140: 11:10 - : 12:00 | G140: พักเที่ยง | H140: 13:00 - 13:50 | I140: 13:50 - 14:40 | J140: 14:40 - 15:30 | K140: 15:30 - 16:00
A141: จ. | B141: โฮมรูม/PLC | C141: ศ31102 ศิลปะ 2 (นิรันดร, ห้องศิลปะ) | D141: ง31294 คณิตศาสตร์ช่างยนต์ (ญารินดา) | E141: Self Study (นิรันดร) | F141: ส31252 การป้องกันการทุจริต 2 (จตุรวิทย์) [ห้องเคมี-ฟิสิกส์] | G141: -X- | H141: พ31102 สุขศึกษาและพลศึกษา 2 (วีระพงษ์, สนามกีฬา) | I141: ค31102 คณิตศาสตร์ 2 (วิลาวัลย์, ห้องคณิต) | J141: อ31212 ภาษาอังกฤษเพื่อการสื่อสาร 2 (ช่อชัยพฤกษ์) [ห้องอังกฤษ] | K141: เขตรับผิดชอบความสะอาด
A142: อ. | B142: โฮมรูม/PLC | C142: อ31102 ภาษาอังกฤษ 2 (ศุภกิตติ์, ห้องอังกฤษ) | D142: ว31204 การใช้เทคโนโลยีดิจิทัลเพื่ออาชีพ (พัชญ์ชิสา, จิระศักดิ์, วรากร) [ห้องคอมฯ] | E142: ง31102 การงานอาชีพฯ 2 (สุดารัตน์) | F142: ค31102 คณิตศาสตร์ 2 (วิลาวัลย์, ห้องคณิต) | G142: -X- | H142: ส31103 สังคมศึกษา 2 (ณัฐวิภา, ห้องอาเซียน) | I142: ท31102 ภาษาไทย 2 (วิลาวัณย์, ห้องพยาบาล) | J142: กิจกรรมแนะแนว (นิรันดร) | K142: เขตรับผิดชอบความสะอาด
A143: พ. | B143: โฮมรูม/PLC | C143: Self Study (นิรันดร) | D143: ง31292 สถิติการทดลอง (วิลาวัลย์, ห้องคณิต) | E143: อ31102 ภาษาอังกฤษ 2 (ศุภกิตติ์, ห้องอังกฤษ) | F143: ค31102 คณิตศาสตร์ 2 (วิลาวัลย์, ห้องคณิต) | G143: -X- | H143: อ31212 ภาษาอังกฤษเพื่อการสื่อสาร 2 (ช่อชัยพฤกษ์) [ห้องอังกฤษ] | I143: ว31204 การใช้เทคโนโลยีดิจิทัลเพื่ออาชีพ (พัชญ์ชิสา, จิระศักดิ์, วรากร) [ห้องคอมฯ] | J143: ท31102 ภาษาไทย 2 (วิลาวัณย์, ห้องพยาบาล) | K143: เขตรับผิดชอบความสะอาด
A144: พฤ. | B144: โฮมรูม/PLC | C144: ง31298 งานเชื่อมและโลหะเบื้องต้น (นที) | D144: ง31296 งานฝึกฝีมือ (นที) | G144: -X- | H144: ง31284 วัสดุช่างอุตสาหกรรม (นที) | I144: ชุมนุม | J144: กีฬา | K144: เขตรับผิดชอบความสะอาด
A145: ศ. | B145: โฮมรูม/PLC | C145: ง31298 งานเชื่อมและโลหะเบื้องต้น (นที) | D145: ง31282 งานขับรถยนต์ (นที) | G145: -X- | H145: ง31284 วัสดุช่างอุตสาหกรรม (นที) | I145: ส31103 สังคมศึกษา 2 (ณัฐวิภา, ห้องอาเซียน) | J145: ง31284 วัสดุช่างอุตสาหกรรม (นที) | K145: เขตรับผิดชอบความสะอาด
A146: Timetable generated with FET 6.26.2 on 28/10/2026 | โรงเรียนเดื่อวิทยาคาร
B148: ลงชื่อ..................................................หัวหน้ากลุ่มบริหารงานวิชาการ | H148: ลงชื่อ..........................................................ผู้อำนวยการสถานศึกษา
C154: ตารางสอนโรงเรียนเดื่อวิทยาคาร ภาคเรียนที่ 2 ปีการศึกษา 2569
C155: ชั้นเรียน: ม.5/1
A157: วัน / คาบ | B157: 08:25 - 08:40 | C157: 08:40 - 09.30 | D157: 09:30 - 10.20 | E157: 10:20 - 11:10 | F157: 11:10 - : 12:00 | G157: พักเที่ยง | H157: 13:00 - 13:50 | I157: 13:50 - 14:40 | J157: 14:40 - 15:30 | K157: 15:30 - 16:00
A158: จ. | B158: โฮมรูม/PLC | C158: ว32222 เคมี 4 (ปนัดดา) [ห้องเคมี-ฟิสิกส์] | D158: ค32102 คณิตศาสตร์ 4 (วิลาวัลย์, ห้องคณิต) | E158: ว32101 วิทยาศาสตร์กายภาพ (ฟิสิกส์) (จตุรวิทย์) [ห้องเคมี-ฟิสิกส์] | F158: ง32102 การงานอาชีพฯ 4 (สุดารัตน์) | G158: -X- | H158: ส32104 ประวัติศาสตร์ 3 (ชนม์สิตา, ห้องอาเซียน) | I158: ว32242 ชีววิทยา 4 (เพชราภรณ์, ห้องวิทย์) | J158: Self Study (วิลาวัลย์, ห้อง 501) | K158: เขตรับผิดชอบความสะอาด
A159: อ. | B159: โฮมรูม/PLC | C159: ว32222 เคมี 4 (ปนัดดา) [ห้องเคมี-ฟิสิกส์] | E159: ว32202 ฟิสิกส์ 4 (จตุรวิทย์) [ห้องเคมี-ฟิสิกส์] | G159: -X- | H159: ท32102 ภาษาไทย 4 (วิลาวัณย์, ห้องพยาบาล) | I159: พ32102 สุขศึกษาและพลศึกษา 4 (วีระพงษ์, สนามกีฬา) | J159: ค32202 คณิตศาสตร์เพิ่มเติม 4 (ญารินดา, ห้อง 501) | K159: เขตรับผิดชอบความสะอาด
A160: พ. | B160: โฮมรูม/PLC | C160: ค32102 คณิตศาสตร์ 4 (วิลาวัลย์, ห้องคณิต) | D160: อ32102 ภาษาอังกฤษ 4 (ศุภกิตติ์, ห้องอังกฤษ) | E160: ว32202 ฟิสิกส์ 4 (จตุรวิทย์) [ห้องเคมี-ฟิสิกส์] | F160: ส32252 การป้องกันการทุจริต 4 (จตุรวิทย์) [ห้องเคมี-ฟิสิกส์] | G160: -X- | H160: กิจกรรมแนะแนว (วิลาวัลย์, ห้อง 501) | I160: ส32103 สังคมศึกษา 4 (ณัฐวิภา, ห้องอาเซียน) | J160: อ32202 ภาษาอังกฤษท่องเที่ยว 1 (ช่อชัยพฤกษ์) [ห้องอังกฤษ] | K160: เขตรับผิดชอบความสะอาด
A161: พฤ. | B161: โฮมรูม/PLC | C161: ว32101 วิทยาศาสตร์กายภาพ (ฟิสิกส์) (จตุรวิทย์) [ห้องเคมี-ฟิสิกส์] | E161: ค32202 คณิตศาสตร์เพิ่มเติม 4 (ญารินดา, ห้อง 501) | F161: ท32102 ภาษาไทย 4 (วิลาวัณย์, ห้องพยาบาล) | G161: -X- | H161: ส32103 สังคมศึกษา 4 (ณัฐวิภา, ห้องอาเซียน) | I161: ชุมนุม | J161: กีฬา | K161: เขตรับผิดชอบความสะอาด
A162: ศ. | B162: โฮมรูม/PLC | C162: ศ32102 ศิลปะ 4 (นิรันดร, ห้องศิลปะ) | D162: ค32202 คณิตศาสตร์เพิ่มเติม 4 (ญารินดา, ห้อง 501) | E162: ว32242 ชีววิทยา 4 (เพชราภรณ์, ห้องวิทย์) | G162: -X- | H162: Self Study (วิลาวัลย์, ห้อง 501) | I162: อ32102 ภาษาอังกฤษ 4 (ศุภกิตติ์, ห้องอังกฤษ) | J162: คุณธรรม จริยธรรม | K162: เขตรับผิดชอบความสะอาด
A163: Timetable generated with FET 6.26.2 on 28/10/2026 | โรงเรียนเดื่อวิทยาคาร
B165: ลงชื่อ..................................................หัวหน้ากลุ่มบริหารงานวิชาการ | H165: ลงชื่อ..........................................................ผู้อำนวยการสถานศึกษา
...
