Workbook

Sheet ฐานข้อมูลตารางรวม
A1: รหัสกิจกรรม | B1: วัน | C1: คาบ/เวลา | D1: วิชา | E1: ครูผู้สอน | F1: ชั้นเรียน/กลุ่มผู้เรียน | G1: ห้องเรียน | H1: หมวดกิจกรรม
A2: 1 | B2: พฤ. | C2: 08:40 - 09.30 | D2: ท21102 ภาษาไทย 2 | E2: นางสาววิลาวัณย์ ลาแพงศรี | F2: ม.1 | G2: ห้องพยาบาล | H2: #พยาบาล
A3: 2 | B3: พ. | C3: 08:40 - 09.30 | D3: ท21102 ภาษาไทย 2 | E3: นางสาววิลาวัณย์ ลาแพงศรี | F3: ม.1 | G3: ห้องพยาบาล | H3: #พยาบาล
A4: 3 | B4: อ. | C4: 09:30 - 10.20 | D4: ท21102 ภาษาไทย 2 | E4: นางสาววิลาวัณย์ ลาแพงศรี | F4: ม.1 | G4: ห้องพยาบาล | H4: #พยาบาล
A5: 4 | B5: อ. | C5: 14:40 - 15:30 | D5: ค21102 คณิตศาสตร์ 2 | E5: นางสาววิลาวัลย์ โสภาอุทก | F5: ม.1 | G5: ห้องคณิตศาสตร์ | H5: #Math4
A6: 5 | B6: จ. | C6: 10:20 - 11:10 | D6: ค21102 คณิตศาสตร์ 2 | E6: นางสาววิลาวัลย์ โสภาอุทก | F6: ม.1 | G6: ห้องคณิตศาสตร์ | H6: #Math4
A7: 6 | B7: ศ. | C7: 11:10 - : 12:00 | D7: ค21102 คณิตศาสตร์ 2 | E7: นางสาววิลาวัลย์ โสภาอุทก | F7: ม.1 | G7: ห้องคณิตศาสตร์ | H7: #Math4
A8: 7 | B8: ศ. | C8: 13:50 - 14:40 | D8: ว21102 วิทยาศาสตร์ 2 | E8: นางสาวเพชราภรณ์ สุวรรณวงษ์ | F8: ม.1/1 | G8: ห้องวิทยาศาสตร์ | H8: #Sci
A9: 8 | B9: พ. | C9: 13:00 - 13:50 | D9: ว21102 วิทยาศาสตร์ 2 | E9: นางสาวเพชราภรณ์ สุวรรณวงษ์ | F9: ม.1/1 | G9: ห้องวิทยาศาสตร์ | H9: #Sci
A10: 9 | B10: อ. | C10: 10:20 - 11:10 | D10: ว21102 วิทยาศาสตร์ 2 | E10: นางสาวเพชราภรณ์ สุวรรณวงษ์ | F10: ม.1/1 | G10: ห้องวิทยาศาสตร์ | H10: #Sci
A11: 10 | B11: พ. | C11: 11:10 - : 12:00 | D11: ว21102 วิทยาศาสตร์ 2 | E11: นางสาวเพชราภรณ์ สุวรรณวงษ์ | F11: ม.1/2 | G11: ห้องวิทยาศาสตร์ | H11: #Sci
A12: 11 | B12: จ. | C12: 13:00 - 13:50 | D12: ว21102 วิทยาศาสตร์ 2 | E12: นางสาวเพชราภรณ์ สุวรรณวงษ์ | F12: ม.1/2 | G12: ห้องวิทยาศาสตร์ | H12: #Sci
... A19: 18 | B19: อ. | C19: 08:40 - 09.30 | D19: ส21104 ประวัติศาสตร์ 2 | E19: นางสาวชนม์สิตา มูลกัน | F19: ม.1 | G19: ห้องอาเซียน | H19: #อาเซียน
A20: 19 | B20: จ. | C20: 09:30 - 10.20 | D20: พ21102 สุขศึกษาและพลศึกษา 2 | E20: นายวีระพงษ์ บุตรสีทัด | F20: ม.1 | H20: #สุขะ
A21: 20 | B21: ศ. | C21: 13:00 - 13:50 | D21: พ21102 สุขศึกษาและพลศึกษา 2 | E21: นายวีระพงษ์ บุตรสีทัด | F21: ม.1 | G21: สนามกีฬา | H21: #พละ
A22: 21 | B22: จ. | C22: 11:10 - : 12:00 | D22: ศ21102 ศิลปะ 2 | E22: นายนิรันดร พันธ์ทรัพย์ | F22: ม.1/1 | G22: ห้องศิลปะ | H22: #Art
A23: 22 | B23: ศ. | C23: 10:20 - 11:10 | D23: ศ21102 ศิลปะ 2 | E23: นายนิรันดร พันธ์ทรัพย์ | F23: ม.1/1 | G23: ห้องศิลปะ | H23: #Art
A24: 23 | B24: พ. | C24: 10:20 - 11:10 | D24: ศ21102 ศิลปะ 2 | E24: นายนิรันดร พันธ์ทรัพย์ | F24: ม.1/2 | G24: ห้องศิลปะ | H24: #Art
A25: 24 | B25: พฤ. | C25: 10:20 - 11:10 | D25: ศ21102 ศิลปะ 2 | E25: นายนิรันดร พันธ์ทรัพย์ | F25: ม.1/2 | G25: ห้องศิลปะ | H25: #Art
A26: 25 | B26: พฤ. | C26: 10:20 - 11:10 | D26: ง21102 การงานอาชีพฯ 2 | E26: นางสาวสุดารัตน์ เชื้อเมืองแสน | F26: ม.1/1 | G26: 101 | H26: #OT
A27: 25 | B27: พฤ. | C27: 11:10 - : 12:00 | D27: ง21102 การงานอาชีพฯ 2 | E27: นางสาวสุดารัตน์ เชื้อเมืองแสน | F27: ม.1/1 | G27: 101 | H27: #OT
A28: 26 | B28: ศ. | C28: 09:30 - 10.20 | D28: ง21102 การงานอาชีพฯ 2 | E28: นางสาวสุดารัตน์ เชื้อเมืองแสน | F28: ม.1/2 | G28: 102 | H28: #OT
A29: 26 | B29: ศ. | C29: 10:20 - 11:10 | D29: ง21102 การงานอาชีพฯ 2 | E29: นางสาวสุดารัตน์ เชื้อเมืองแสน | F29: ม.1/2 | G29: 102 | H29: #OT
A30: 27 | B30: อ. | C30: 13:00 - 13:50 | D30: อ21102 ภาษาอังกฤษ 2 | E30: นางสาวช่อชัยพฤกษ์ รัตนวงศ์ | F30: ม.1 | G30: ห้องภาษาอังกฤษ | H30: #Eng
A31: 28 | B31: จ. | C31: 08:40 - 09.30 | D31: อ21102 ภาษาอังกฤษ 2 | E31: นางสาวช่อชัยพฤกษ์ รัตนวงศ์ | F31: ม.1 | G31: ห้องภาษาอังกฤษ | H31: #Eng
A32: 29 | B32: พ. | C32: 13:50 - 14:40 | D32: อ21102 ภาษาอังกฤษ 2 | E32: นางสาวช่อชัยพฤกษ์ รัตนวงศ์ | F32: ม.1 | G32: ห้องภาษาอังกฤษ | H32: #Eng
... A53: 50 | B53: ศ. | C53: 08:40 - 09.30 | D53: ค22102 คณิตศาสตร์ 4 | E53: นางสาวญารินดา หาญชัยกฤติ | F53: ม.2/2 | G53: 202 | H53: #Math5
A54: 51 | B54: ศ. | C54: 10:20 - 11:10 | D54: ว22102 วิทยาศาสตร์ 4 | E54: นายกิตติวัฒน์ วงษ์พุฒ | F54: ม.2/1 | G54: 201
A55: 52 | B55: พ. | C55: 13:00 - 13:50 | D55: ว22102 วิทยาศาสตร์ 4 | E55: นายกิตติวัฒน์ วงษ์พุฒ | F55: ม.2/1 | G55: 201
A56: 53 | B56: อ. | C56: 13:50 - 14:40 | D56: ว22102 วิทยาศาสตร์ 4 | E56: นายกิตติวัฒน์ วงษ์พุฒ | F56: ม.2/1 | G56: 201
A57: 54 | B57: ศ. | C57: 13:50 - 14:40 | D57: ว22102 วิทยาศาสตร์ 4 | E57: นายกิตติวัฒน์ วงษ์พุฒ | F57: ม.2/2 | G57: 202
A58: 55 | B58: อ. | C58: 08:40 - 09.30 | D58: ว22102 วิทยาศาสตร์ 4 | E58: นายกิตติวัฒน์ วงษ์พุฒ | F58: ม.2/2 | G58: 202
A59: 56 | B59: พ. | C59: 10:20 - 11:10 | D59: ว22102 วิทยาศาสตร์ 4 | E59: นายกิตติวัฒน์ วงษ์พุฒ | F59: ม.2/2 | G59: 202
A60: 57 | B60: อ. | C60: 14:40 - 15:30 | D60: ว22104 การออกแบบและเทคโนโลยี 2 | E60: นางสาวพาณิชย์ เบ้าแก้ว+นางสาวพัชญ์ชิสา อภิกุลวราศิษฐ์ | F60: ม.2/1 | G60: ห้องปฏิบัติการคอมพิวเตอร์ | H60: #คอม
A61: 58 | B61: อ. | C61: 13:50 - 14:40 | D61: ว22104 การออกแบบและเทคโนโลยี 2 | E61: นางสาวพาณิชย์ เบ้าแก้ว+นางสาวพัชญ์ชิสา อภิกุลวราศิษฐ์ | F61: ม.2/2 | G61: ห้องปฏิบัติการคอมพิวเตอร์ | H61: #คอม
A62: 59 | B62: พ. | C62: 08:40 - 09.30 | D62: ส22103 สังคมศึกษา 4 | E62: นางสาวณัฐวิภา รัตนะ | F62: ม.2 | G62: ห้องอาเซียน | H62: #อาเซียน
A63: 60 | B63: จ. | C63: 13:50 - 14:40 | D63: ส22103 สังคมศึกษา 4 | E63: นางสาวณัฐวิภา รัตนะ | F63: ม.2 | G63: ห้องอาเซียน | H63: #อาเซียน
A64: 61 | B64: อ. | C64: 11:10 - : 12:00 | D64: ส22103 สังคมศึกษา 4 | E64: นางสาวณัฐวิภา รัตนะ | F64: ม.2 | G64: ห้องอาเซียน | H64: #อาเซียน
A65: 62 | B65: อ. | C65: 09:30 - 10.20 | D65: ส22104 ประวัติศาสตร์ 4 | E65: นางสาวณัฐวิภา รัตนะ | F65: ม.2 | G65: ห้องอาเซียน | H65: #อาเซียน
A66: 63 | B66: จ. | C66: 11:10 - : 12:00 | D66: พ22103 สุขศึกษาและพลศึกษา 4 | E66: นายวีระพงษ์ บุตรสีทัด | F66: ม.2 | H66: #สุขะ
...

Sheet สรุปภาระงานสอนครู
A1: ลำดับ | B1: ชื่อครูผู้สอน | C1: จำนวนคาบสอนจริง (คาบ/สัปดาห์) | D1: หมายเหตุ
A2: 1 | B2: นางสาววิลาวัณย์ ลาแพงศรี | C2: =COUNTIF('ฐานข้อมูลตารางรวม'!$E$2:$E$591, "*" & B2 & "*")
A3: 2 | B3: นางสาวช่อชัยพฤกษ์ รัตนวงศ์ | C3: =COUNTIF('ฐานข้อมูลตารางรวม'!$E$2:$E$591, "*" & B3 & "*")
A4: 3 | B4: นางสาววิลาวัลย์ โสภาอุทก | C4: =COUNTIF('ฐานข้อมูลตารางรวม'!$E$2:$E$591, "*" & B4 & "*")
A5: 4 | B5: นางสาวญารินดา หาญชัยกฤติ | C5: =COUNTIF('ฐานข้อมูลตารางรวม'!$E$2:$E$591, "*" & B5 & "*")
A6: 5 | B6: นางสาวพัชญ์ชิสา อภิกุลวราศิษฐ์ | C6: =COUNTIF('ฐานข้อมูลตารางรวม'!$E$2:$E$591, "*" & B6 & "*")
A7: 6 | B7: นายกิตติวัฒน์ วงษ์พุฒ | C7: =COUNTIF('ฐานข้อมูลตารางรวม'!$E$2:$E$591, "*" & B7 & "*")
A8: 7 | B8: นางสาวพาณิชย์ เบ้าแก้ว | C8: =COUNTIF('ฐานข้อมูลตารางรวม'!$E$2:$E$591, "*" & B8 & "*")
A9: 8 | B9: นายจตุรวิทย์ วงละคร | C9: =COUNTIF('ฐานข้อมูลตารางรวม'!$E$2:$E$591, "*" & B9 & "*")
A10: 9 | B10: นางสาวเพชราภรณ์ สุวรรณวงษ์ | C10: =COUNTIF('ฐานข้อมูลตารางรวม'!$E$2:$E$591, "*" & B10 & "*")
A11: 10 | B11: นางสาวปนัดดา กล้ารมรัญ | C11: =COUNTIF('ฐานข้อมูลตารางรวม'!$E$2:$E$591, "*" & B11 & "*")
A12: 11 | B12: นางสาวณัฐวิภา รัตนะ | C12: =COUNTIF('ฐานข้อมูลตารางรวม'!$E$2:$E$591, "*" & B12 & "*")
A13: 12 | B13: นางสาวชนม์สิตา มูลกัน | C13: =COUNTIF('ฐานข้อมูลตารางรวม'!$E$2:$E$591, "*" & B13 & "*")
... A22: 21 | B22: นายศุภกิตติ์ บุญวงษา | C22: =COUNTIF('ฐานข้อมูลตารางรวม'!$E$2:$E$591, "*" & B22 & "*")
A23: รวมจำนวนคาบสอนทั้งหมด | C23: =SUM(C2:C22)

Sheet ตารางสอนรายครู
C1: ตารางสอนโรงเรียนเดื่อวิทยาคาร ภาคเรียนที่ 2 ปีการศึกษา 2569
C2: ครูผู้สอน: นางสาววิลาวัณย์ ลาแพงศรี
A4: วัน / คาบ | B4: 08:25 - 08:40 | C4: 08:40 - 09.30 | D4: 09:30 - 10.20 | E4: 10:20 - 11:10 | F4: 11:10 - : 12:00 | G4: พักเที่ยง | H4: 13:00 - 13:50 | I4: 13:50 - 14:40 | J4: 14:40 - 15:30 | K4: 15:30 - 16:00
A5: จ. | B5: โฮมรูม/PLC | C5: ประชุมหัวหน้าฝ่ายฯ | G5: -X- | H5: --- | I5: --- | J5: --- | K5: เขตรับผิดชอบความสะอาด
A6: อ. | B6: โฮมรูม/PLC | C6: ม.3 ท23102 ภาษาไทย 6 ห้องพยาบาล | D6: ม.1 ท21102 ภาษาไทย 2 ห้องพยาบาล | E6: ม.6/1 ท33102 ภาษาไทย 6 ห้องพยาบาล | F6: ท21202 เสริมทักษะการอ่านร้อยกรอง | G6: -X- | H6: ม.5 ท32102 ภาษาไทย 4 ห้องพยาบาล | I6: ม.4 ท31102 ภาษาไทย 2 ห้องพยาบาล | J6: ม.5/2 ท32202 หลักภาษาไทย 2 ห้องพยาบาล | K6: เขตรับผิดชอบความสะอาด
A7: พ. | B7: โฮมรูม/PLC | C7: ม.1 ท21102 ภาษาไทย 2 ห้องพยาบาล | D7: ม.2 ท22102 ภาษาไทย 4 ห้องพยาบาล | E7: ม.5/2 ท32202 หลักภาษาไทย 2 ห้องพยาบาล | F7: ม.3 ท23102 ภาษาไทย 6 ห้องพยาบาล | G7: -X- | H7: --- | I7: ม.3/1 กิจกรรมแนะแนว ห้อง 301 | J7: ม.4 ท31102 ภาษาไทย 2 ห้องพยาบาล | K7: เขตรับผิดชอบความสะอาด
A8: พฤ. | B8: โฮมรูม/PLC | C8: ม.1 ท21102 ภาษาไทย 2 ห้องพยาบาล | D8: ม.3 ท23102 ภาษาไทย 6 ห้องพยาบาล | E8: ม.2 ท22102 ภาษาไทย 4 ห้องพยาบาล | F8: ม.5 ท32102 ภาษาไทย 4 ห้องพยาบาล | G8: -X- | H8: ม.4/2 ท31202 การเขียน 2 ห้องพยาบาล | I8: ชุมนุม | J8: กีฬา | K8: เขตรับผิดชอบความสะอาด
A9: ศ. | B9: โฮมรูม/PLC | C9: ม.4/2 ท31202 การเขียน 2 ห้องพยาบาล | D9: --- | E9: ม.6/1 ท33102 ภาษาไทย 6 ห้องพยาบาล | F9: ม.2 ท22102 ภาษาไทย 4 ห้องพยาบาล | G9: -X- | H9: --- | I9: --- | J9: คุณธรรม จริยธรรม | K9: เขตรับผิดชอบความสะอาด
A10: Timetable generated with FET 6.26.2 on 28/10/2026 | โรงเรียนเดื่อวิทยาคาร
B12: ลงชื่อ..................................................หัวหน้ากลุ่มบริหารงานวิชาการ | H12: ลงชื่อ..........................................................ผู้อำนวยการสถานศึกษา
C18: ตารางสอนโรงเรียนเดื่อวิทยาคาร ภาคเรียนที่ 2 ปีการศึกษา 2569
C19: ครูผู้สอน: นางสาวช่อชัยพฤกษ์ รัตนวงศ์
A21: วัน / คาบ | B21: 08:25 - 08:40 | C21: 08:40 - 09.30 | D21: 09:30 - 10.20 | E21: 10:20 - 11:10 | F21: 11:10 - : 12:00 | G21: พักเที่ยง | H21: 13:00 - 13:50 | I21: 13:50 - 14:40 | J21: 14:40 - 15:30 | K21: 15:30 - 16:00
A22: จ. | B22: โฮมรูม/PLC | C22: ม.1 อ21102 ภาษาอังกฤษ 2 ห้องอังกฤษ | D22: --- | E22: ม.3 อ23102 ภาษาอังกฤษ 6 ห้องอังกฤษ | F22: --- | G22: -X- | H22: ม.6/1 อ33102 ภาษาอังกฤษ 6 ห้องอังกฤษ | I22: ม.6/1 อ33202 ภาษาอังกฤษท่องเที่ยว 3 ห้องอังกฤษ | J22: ม.4/2, ม.4/3 อ31212 ภาษาอังกฤษเพื่อการสื่อสาร 2 ห้องอังกฤษ | K22: เขตรับผิดชอบความสะอาด
A23: อ. | B23: โฮมรูม/PLC | C23: --- | D23: ม.6/1 อ33102 ภาษาอังกฤษ 6 ห้องอังกฤษ | E23: --- | F23: ม.3 อ23102 ภาษาอังกฤษ 6 ห้องอังกฤษ | G23: -X- | H23: ม.1 อ21102 ภาษาอังกฤษ 2 ห้องอังกฤษ | I23: --- | J23: --- | K23: เขตรับผิดชอบความสะอาด
A24: พ. | B24: โฮมรูม/PLC | C24: --- | D24: --- | E24: --- | F24: ม.6/1 อ33202 ภาษาอังกฤษท่องเที่ยว 3 ห้องอังกฤษ | G24: -X- | H24: ม.4/2, ม.4/3 อ31212 ภาษาอังกฤษเพื่อการสื่อสาร 2 ห้องอังกฤษ | I24: ม.1 อ21102 ภาษาอังกฤษ 2 ห้องอังกฤษ | J24: ม.5 อ32202 ภาษาอังกฤษท่องเที่ยว 1 ห้องอังกฤษ | K24: เขตรับผิดชอบความสะอาด
A25: พฤ. | B25: โฮมรูม/PLC | C25: ม.6/1 อ33202 ภาษาอังกฤษท่องเที่ยว 3 ห้องอังกฤษ | D25: ม.6/1 กิจกรรมแนะแนว ห้อง 601 | E25: --- | F25: --- | G25: -X- | H25: ม.3 อ23102 ภาษาอังกฤษ 6 ห้องอังกฤษ | I25: ชุมนุม | J25: กีฬา | K25: เขตรับผิดชอบความสะอาด
A26: ศ. | B26: โฮมรูม/PLC | C26: --- | D26: --- | E26: --- | F26: ม.6/1 อ33202 ภาษาอังกฤษท่องเที่ยว 3 ห้องอังกฤษ | G26: -X- | H26: --- | I26: --- | J26: คุณธรรม จริยธรรม | K26: เขตรับผิดชอบความสะอาด
A27: Timetable generated with FET 6.26.2 on 28/10/2026 | โรงเรียนเดื่อวิทยาคาร
B29: ลงชื่อ..................................................หัวหน้ากลุ่มบริหารงานวิชาการ | H29: ลงชื่อ..........................................................ผู้อำนวยการสถานศึกษา
C35: ตารางสอนโรงเรียนเดื่อวิทยาคาร ภาคเรียนที่ 2 ปีการศึกษา 2569
C36: ครูผู้สอน: นางสาววิลาวัลย์ โสภาอุทก
A38: วัน / คาบ | B38: 08:25 - 08:40 | C38: 08:40 - 09.30 | D38: 09:30 - 10.20 | E38: 10:20 - 11:10 | F38: 11:10 - : 12:00 | G38: พักเที่ยง | H38: 13:00 - 13:50 | I38: 13:50 - 14:40 | J38: 14:40 - 15:30 | K38: 15:30 - 16:00
A39: จ. | B39: โฮมรูม/PLC | C39: ม.3 ค23102 คณิตศาสตร์ 6 ห้องคณิต | D39: ม.5 ค32102 คณิตศาสตร์ 4 ห้องคณิต | E39: ม.1 ค21102 คณิตศาสตร์ 2 ห้องคณิต | F39: ม.1/2 ส21252 การป้องกันการทุจริต 2 ห้อง 102 | G39: -X- | H39: --- | I39: ม.4 ค31102 คณิตศาสตร์ 2 ห้องคณิต | J39: ม.5/1 Self Study ห้อง 501 | K39: เขตรับผิดชอบความสะอาด
A40: อ. | B40: โฮมรูม/PLC | C40: --- | D40: --- | E40: ม.1/2 ว21202 การศึกษาค้นคว้าและสารสนเทศ ห้องคอมฯ | F40: ม.4 ค31102 คณิตศาสตร์ 2 ห้องคณิต | G40: -X- | H40: --- | I40: --- | J40: ม.1 ค21102 คณิตศาสตร์ 2 ห้องคณิต | K40: เขตรับผิดชอบความสะอาด
A41: พ. | B41: โฮมรูม/PLC | C41: ม.5 ค32102 คณิตศาสตร์ 4 ห้องคณิต | D41: ม.4/3 ง31292 สถิติการทดลอง ห้องคณิต | E41: ม.1/1 ส21252 การป้องกันการทุจริต 2 ห้อง 101 | F41: ม.4 ค31102 คณิตศาสตร์ 2 ห้องคณิต | G41: -X- | H41: ม.5/1 กิจกรรมแนะแนว ห้อง 501 | I41: --- | J41: --- | K41: เขตรับผิดชอบความสะอาด
A42: พฤ. | B42: โฮมรูม/PLC | C42: ม.3 ค23102 คณิตศาสตร์ 6 ห้องคณิต | D42: --- | E42: --- | F42: ม.1/2 ว21202 การศึกษาค้นคว้าและสารสนเทศ ห้องคอมฯ | G42: -X- | H42: --- | I42: ชุมนุม | J42: กีฬา | K42: เขตรับผิดชอบความสะอาด
A43: ศ. | B43: โฮมรูม/PLC | C43: --- | D43: ม.3 ค23102 คณิตศาสตร์ 6 ห้องคณิต | E43: --- | F43: ม.1 ค21102 คณิตศาสตร์ 2 ห้องคณิต | G43: -X- | H43: ม.5/1 Self Study ห้อง 501 | I43: --- | J43: คุณธรรม จริยธรรม | K43: เขตรับผิดชอบความสะอาด
A44: Timetable generated with FET 6.26.2 on 28/10/2026 | โรงเรียนเดื่อวิทยาคาร
B46: ลงชื่อ..................................................หัวหน้ากลุ่มบริหารงานวิชาการ | H46: ลงชื่อ..........................................................ผู้อำนวยการสถานศึกษา
C52: ตารางสอนโรงเรียนเดื่อวิทยาคาร ภาคเรียนที่ 2 ปีการศึกษา 2569
C53: ครูผู้สอน: นางสาวญารินดา หาญชัยกฤติ
A55: วัน / คาบ | B55: 08:25 - 08:40 | C55: 08:40 - 09.30 | D55: 09:30 - 10.20 | E55: 10:20 - 11:10 | F55: 11:10 - : 12:00 | G55: พักเที่ยง | H55: 13:00 - 13:50 | I55: 13:50 - 14:40 | J55: 14:40 - 15:30 | K55: 15:30 - 16:00
A56: จ. | B56: โฮมรูม/PLC | C56: ม.2/1 ค22102 คณิตศาสตร์ 4 ห้อง 201 | D56: ม.4/3 ง31294 คณิตศาสตร์ช่างยนต์ | E56: ม.4/1 ค31202 คณิตศาสตร์เพิ่มเติม 2 ห้อง 401 | F56: ม.6/1 ค33202 คณิตศาสตร์เพิ่มเติม 6 ห้องคณิต | G56: -X- | H56: ม.2/2 ค22102 คณิตศาสตร์ 4 ห้อง 202 | I56: --- | J56: --- | K56: เขตรับผิดชอบความสะอาด
A57: อ. | B57: โฮมรูม/PLC | C57: ม.6/1 ค33202 คณิตศาสตร์เพิ่มเติม 6 ห้องคณิต | D57: ม.4/1 ค31202 คณิตศาสตร์เพิ่มเติม 2 ห้อง 401 | E57: ม.2/2 ค22102 คณิตศาสตร์ 4 ห้อง 202 | F57: ค21202 เสริมทักษะคณิตศาสตร์ 2 | G57: -X- | H57: ค22202 เสริมทักษะคณิตศาสตร์ 4 | I57: --- | J57: ม.5/1 ค32202 คณิตศาสตร์เพิ่มเติม 4 ห้อง 501 | K57: เขตรับผิดชอบความสะอาด
A58: พ. | B58: โฮมรูม/PLC | C58: --- | D58: ม.4/1 ค31202 คณิตศาสตร์เพิ่มเติม 2 ห้อง 401 | E58: --- | F58: --- | G58: -X- | H58: --- | I58: ม.2/1 ค22102 คณิตศาสตร์ 4 ห้อง 201 | J58: --- | K58: เขตรับผิดชอบความสะอาด
A59: พฤ. | B59: โฮมรูม/PLC | C59: ม.4/1 Self Study ห้อง 401 | D59: ม.2/1 ค22102 คณิตศาสตร์ 4 ห้อง 201 | E59: ม.5/1 ค32202 คณิตศาสตร์เพิ่มเติม 4 ห้อง 501 | F59: ม.6/1 ค33202 คณิตศาสตร์เพิ่มเติม 6 ห้องคณิต | G59: -X- | H59: ม.4/1 กิจกรรมแนะแนว ห้อง 401 | I59: ชุมนุม | J59: กีฬา | K59: เขตรับผิดชอบความสะอาด
A60: ศ. | B60: โฮมรูม/PLC | C60: ม.2/2 ค22102 คณิตศาสตร์ 4 ห้อง 202 | D60: ม.5/1 ค32202 คณิตศาสตร์เพิ่มเติม 4 ห้อง 501 | E60: ค23202 เสริมทักษะคณิตศาสตร์ 6 | G60: -X- | H60: --- | I60: --- | J60: คุณธรรม จริยธรรม | K60: เขตรับผิดชอบความสะอาด
A61: Timetable generated with FET 6.26.2 on 28/10/2026 | โรงเรียนเดื่อวิทยาคาร
B63: ลงชื่อ..................................................หัวหน้ากลุ่มบริหารงานวิชาการ | H63: ลงชื่อ..........................................................ผู้อำนวยการสถานศึกษา
...

Sheet ตารางสอนรายชั้นเรียน
C1: ตารางสอนโรงเรียนเดื่อวิทยาคาร ภาคเรียนที่ 2 ปีการศึกษา 2569
C2: ชั้นเรียน: ม.1/1
A4: วัน / คาบ | B4: 08:25 - 08:40 | C4: 08:40 - 09.30 | D4: 09:30 - 10.20 | E4: 10:20 - 11:10 | F4: 11:10 - : 12:00 | G4: พักเที่ยง | H4: 13:00 - 13:50 | I4: 13:50 - 14:40 | J4: 14:40 - 15:30 | K4: 15:30 - 16:00
A5: จ. | B5: โฮมรูม/PLC | C5: อ21102 ภาษาอังกฤษ 2 (ช่อชัยพฤกษ์) [ห้องอังกฤษ] | D5: พ21102 สุขศึกษาและพลศึกษา 2 (วีระพงษ์) | E5: ค21102 คณิตศาสตร์ 2 (วิลาวัลย์, ห้องคณิต) | F5: ศ21102 ศิลปะ 2 (นิรันดร, ห้องศิลปะ) | G5: -X- | H5: กิจกรรมแนะแนว (สุดารัตน์, ห้อง 101) | I5: Self Study (สุดารัตน์, ห้อง 101) | J5: ลดเวลาเรียน เพิ่มเวลารู้ (สุดารัตน์, พาณิชย์) | K5: เขตรับผิดชอบความสะอาด
A6: อ. | B6: โฮมรูม/PLC | C6: ส21104 ประวัติศาสตร์ 2 (ชนม์สิตา, ห้องอาเซียน) | D6: ท21102 ภาษาไทย 2 (วิลาวัณย์, ห้องพยาบาล) | E6: ว21102 วิทยาศาสตร์ 2 (เพชราภรณ์, ห้องวิทย์) | F6: วิชาเลือกเสรี ม.1 | G6: -X- | H6: อ21102 ภาษาอังกฤษ 2 (ช่อชัยพฤกษ์) [ห้องอังกฤษ] | I6: ส21103 สังคมศึกษา 2 (ชนม์สิตา, ห้องอาเซียน) | J6: ค21102 คณิตศาสตร์ 2 (วิลาวัลย์, ห้องคณิต) | K6: เขตรับผิดชอบความสะอาด
A7: พ. | B7: โฮมรูม/PLC | C7: ท21102 ภาษาไทย 2 (วิลาวัณย์, ห้องพยาบาล) | D7: ส21103 สังคมศึกษา 2 (ชนม์สิตา, ห้องอาเซียน) | E7: ส21252 การป้องกันการทุจริต 2 (วิลาวัลย์, ห้อง 101) | F7: ว21202 การศึกษาค้นคว้าและสารสนเทศ (พาณิชย์, พัชญ์ชิสา) [ห้องคอมฯ] | G7: -X- | H7: ว21102 วิทยาศาสตร์ 2 (เพชราภรณ์, ห้องวิทย์) | I7: อ21102 ภาษาอังกฤษ 2 (ช่อชัยพฤกษ์) [ห้องอังกฤษ] | J7: ลูกเสือ-เนตรนารี (สุดารัตน์, พาณิชย์) | K7: เขตรับผิดชอบความสะอาด
A8: พฤ. | B8: โฮมรูม/PLC | C8: ท21102 ภาษาไทย 2 (วิลาวัณย์, ห้องพยาบาล) | D8: ส21103 สังคมศึกษา 2 (ชนม์สิตา, ห้องอาเซียน) | E8: ง21102 การงานอาชีพฯ 2 (สุดารัตน์, ห้อง 101) | G8: -X- | H8: Self Study (สุดารัตน์, ห้อง 101) | I8: ชุมนุม | J8: กีฬา | K8: เขตรับผิดชอบความสะอาด
A9: ศ. | B9: โฮมรูม/PLC | C9: ว21104 การออกแบบและเทคโนโลยี 1 (พาณิชย์, พัชญ์ชิสา) [ห้องคอมฯ] | D9: ว21202 การศึกษาค้นคว้าและสารสนเทศ (พาณิชย์, พัชญ์ชิสา) [ห้องคอมฯ] | E9: ศ21102 ศิลปะ 2 (นิรันดร, ห้องศิลปะ) | F9: ค21102 คณิตศาสตร์ 2 (วิลาวัลย์, ห้องคณิต) | G9: -X- | H9: พ21102 สุขศึกษาและพลศึกษา 2 (วีระพงษ์, สนามกีฬา) | I9: ว21102 วิทยาศาสตร์ 2 (เพชราภรณ์, ห้องวิทย์) | J9: คุณธรรม จริยธรรม | K9: เขตรับผิดชอบความสะอาด
A10: Timetable generated with FET 6.26.2 on 28/10/2026 | โรงเรียนเดื่อวิทยาคาร
B12: ลงชื่อ..................................................หัวหน้ากลุ่มบริหารงานวิชาการ | H12: ลงชื่อ..........................................................ผู้อำนวยการสถานศึกษา
C18: ตารางสอนโรงเรียนเดื่อวิทยาคาร ภาคเรียนที่ 2 ปีการศึกษา 2569
C19: ชั้นเรียน: ม.1/2
A21: วัน / คาบ | B21: 08:25 - 08:40 | C21: 08:40 - 09.30 | D21: 09:30 - 10.20 | E21: 10:20 - 11:10 | F21: 11:10 - : 12:00 | G21: พักเที่ยง | H21: 13:00 - 13:50 | I21: 13:50 - 14:40 | J21: 14:40 - 15:30 | K21: 15:30 - 16:00
A22: จ. | B22: โฮมรูม/PLC | C22: อ21102 ภาษาอังกฤษ 2 (ช่อชัยพฤกษ์) [ห้องอังกฤษ] | D22: พ21102 สุขศึกษาและพลศึกษา 2 (วีระพงษ์) | E22: ค21102 คณิตศาสตร์ 2 (วิลาวัลย์, ห้องคณิต) | F22: ส21252 การป้องกันการทุจริต 2 (วิลาวัลย์, ห้อง 102) | G22: -X- | H22: ว21102 วิทยาศาสตร์ 2 (เพชราภรณ์, ห้องวิทย์) | I22: Self Study (พาณิชย์, ห้อง 102) | J22: ลดเวลาเรียน เพิ่มเวลารู้ (สุดารัตน์, พาณิชย์) | K22: เขตรับผิดชอบความสะอาด
A23: อ. | B23: โฮมรูม/PLC | C23: ส21104 ประวัติศาสตร์ 2 (ชนม์สิตา, ห้องอาเซียน) | D23: ท21102 ภาษาไทย 2 (วิลาวัณย์, ห้องพยาบาล) | E23: ว21202 การศึกษาค้นคว้าและสารสนเทศ (วิลาวัลย์, พัชญ์ชิสา) [ห้องคอมฯ] | F23: วิชาเลือกเสรี ม.1 | G23: -X- | H23: อ21102 ภาษาอังกฤษ 2 (ช่อชัยพฤกษ์) [ห้องอังกฤษ] | I23: ส21103 สังคมศึกษา 2 (ชนม์สิตา, ห้องอาเซียน) | J23: ค21102 คณิตศาสตร์ 2 (วิลาวัลย์, ห้องคณิต) | K23: เขตรับผิดชอบความสะอาด
A24: พ. | B24: โฮมรูม/PLC | C24: ท21102 ภาษาไทย 2 (วิลาวัณย์, ห้องพยาบาล) | D24: ส21103 สังคมศึกษา 2 (ชนม์สิตา, ห้องอาเซียน) | E24: ศ21102 ศิลปะ 2 (นิรันดร, ห้องศิลปะ) | F24: ว21102 วิทยาศาสตร์ 2 (เพชราภรณ์, ห้องวิทย์) | G24: -X- | H24: กิจกรรมแนะแนว (ศุภกิตติ์, ห้อง 102) | I24: อ21102 ภาษาอังกฤษ 2 (ช่อชัยพฤกษ์) [ห้องอังกฤษ] | J24: ลูกเสือ-เนตรนารี (สุดารัตน์, พาณิชย์) | K24: เขตรับผิดชอบความสะอาด
A25: พฤ. | B25: โฮมรูม/PLC | C25: ท21102 ภาษาไทย 2 (วิลาวัณย์, ห้องพยาบาล) | D25: ส21103 สังคมศึกษา 2 (ชนม์สิตา, ห้องอาเซียน) | E25: ศ21102 ศิลปะ 2 (นิรันดร, ห้องศิลปะ) | F25: ว21202 การศึกษาค้นคว้าและสารสนเทศ (วิลาวัลย์, พัชญ์ชิสา) [ห้องคอมฯ] | G25: -X- | H25: ว21104 การออกแบบและเทคโนโลยี 1 (พาณิชย์, พัชญ์ชิสา) [ห้องคอมฯ] | I25: ชุมนุม | J25: กีฬา | K25: เขตรับผิดชอบความสะอาด
A26: ศ. | B26: โฮมรูม/PLC | C26: ว21102 วิทยาศาสตร์ 2 (เพชราภรณ์, ห้องวิทย์) | D26: ง21102 การงานอาชีพฯ 2 (สุดารัตน์, ห้อง 102) | F26: ค21102 คณิตศาสตร์ 2 (วิลาวัลย์, ห้องคณิต) | G26: -X- | H26: พ21102 สุขศึกษาและพลศึกษา 2 (วีระพงษ์, สนามกีฬา) | I26: Self Study (พาณิชย์, ห้อง 102) | J26: คุณธรรม จริยธรรม | K26: เขตรับผิดชอบความสะอาด
A27: Timetable generated with FET 6.26.2 on 28/10/2026 | โรงเรียนเดื่อวิทยาคาร
B29: ลงชื่อ..................................................หัวหน้ากลุ่มบริหารงานวิชาการ | H29: ลงชื่อ..........................................................ผู้อำนวยการสถานศึกษา
C35: ตารางสอนโรงเรียนเดื่อวิทยาคาร ภาคเรียนที่ 2 ปีการศึกษา 2569
C36: ชั้นเรียน: ม.2/1
A38: วัน / คาบ | B38: 08:25 - 08:40 | C38: 08:40 - 09.30 | D38: 09:30 - 10.20 | E38: 10:20 - 11:10 | F38: 11:10 - : 12:00 | G38: พักเที่ยง | H38: 13:00 - 13:50 | I38: 13:50 - 14:40 | J38: 14:40 - 15:30 | K38: 15:30 - 16:00
A39: จ. | B39: โฮมรูม/PLC | C39: ค22102 คณิตศาสตร์ 4 (ญารินดา, ห้อง 201) | D39: อ22102 ภาษาอังกฤษ 4 (ศุภกิตติ์, ห้องอังกฤษ) | E39: ว22204 สวนพฤกษศาสตร์ 1 (พาณิชย์, ห้องวิทย์) | F39: พ22103 สุขศึกษาและพลศึกษา 4 (วีระพงษ์) | G39: -X- | H39: ว22202 โครงงานทดลอง (กิตติวัฒน์, ห้อง 201) | I39: ส22103 สังคมศึกษา 4 (ณัฐวิภา, ห้องอาเซียน) | J39: ลดเวลาเรียน เพิ่มเวลารู้ (กิตติวัฒน์, ชนม์สิตา) | K39: เขตรับผิดชอบความสะอาด
A40: อ. | B40: โฮมรูม/PLC | C40: ส22252 การป้องกันการทุจริต 4 (มตรส, ห้อง 201) | D40: ส22104 ประวัติศาสตร์ 4 (ณัฐวิภา, ห้องอาเซียน) | E40: กิจกรรมแนะแนว (ปนัดดา, ห้อง 201) | F40: ส22103 สังคมศึกษา 4 (ณัฐวิภา, ห้องอาเซียน) | G40: -X- | H40: วิชาเลือกเสรี ม.2 | I40: ว22102 วิทยาศาสตร์ 4 (กิตติวัฒน์, ห้อง 201) | J40: ว22104 การออกแบบและเทคโนโลยี 2 (พาณิชย์, พัชญ์ชิสา) [ห้องคอมฯ] | K40: เขตรับผิดชอบความสะอาด
A41: พ. | B41: โฮมรูม/PLC | C41: ส22103 สังคมศึกษา 4 (ณัฐวิภา, ห้องอาเซียน) | D41: ท22102 ภาษาไทย 4 (วิลาวัณย์, ห้องพยาบาล) | E41: ศ22102 ศิลปะ 4 (มตรส, ห้องดนตรี) | F41: Self Study (ปนัดดา, ณัฐวิภา) [ห้องอาเซียน] | G41: -X- | H41: ว22102 วิทยาศาสตร์ 4 (กิตติวัฒน์, ห้อง 201) | I41: ค22102 คณิตศาสตร์ 4 (ญารินดา, ห้อง 201) | J41: ลูกเสือ-เนตรนารี (ศุภกิตติ์, ปนัดดา) | K41: เขตรับผิดชอบความสะอาด
A42: พฤ. | B42: โฮมรูม/PLC | C42: Self Study (ปนัดดา, ณัฐวิภา) [ห้องอาเซียน] | D42: ค22102 คณิตศาสตร์ 4 (ญารินดา, ห้อง 201) | E42: ท22102 ภาษาไทย 4 (วิลาวัณย์, ห้องพยาบาล) | F42: อ22102 ภาษาอังกฤษ 4 (ศุภกิตติ์, ห้องอังกฤษ) | G42: -X- | H42: พ22103 สุขศึกษาและพลศึกษา 4 (วีระพงษ์, สนามกีฬา) | I42: ชุมนุม | J42: กีฬา | K42: เขตรับผิดชอบความสะอาด
A43: ศ. | B43: โฮมรูม/PLC | C43: ศ22102 ศิลปะ 4 (มตรส, ห้องดนตรี) | D43: อ22102 ภาษาอังกฤษ 4 (ศุภกิตติ์, ห้องอังกฤษ) | E43: ว22102 วิทยาศาสตร์ 4 (กิตติวัฒน์, ห้อง 201) | F43: ท22102 ภาษาไทย 4 (วิลาวัณย์, ห้องพยาบาล) | G43: -X- | H43: ง22102 การงานอาชีพฯ 4 (สุดารัตน์, ห้อง 201) | J43: คุณธรรม จริยธรรม | K43: เขตรับผิดชอบความสะอาด
A44: Timetable generated with FET 6.26.2 on 28/10/2026 | โรงเรียนเดื่อวิทยาคาร
B46: ลงชื่อ..................................................หัวหน้ากลุ่มบริหารงานวิชาการ | H46: ลงชื่อ..........................................................ผู้อำนวยการสถานศึกษา
C52: ตารางสอนโรงเรียนเดื่อวิทยาคาร ภาคเรียนที่ 2 ปีการศึกษา 2569
C53: ชั้นเรียน: ม.2/2
A55: วัน / คาบ | B55: 08:25 - 08:40 | C55: 08:40 - 09.30 | D55: 09:30 - 10.20 | E55: 10:20 - 11:10 | F55: 11:10 - : 12:00 | G55: พักเที่ยง | H55: 13:00 - 13:50 | I55: 13:50 - 14:40 | J55: 14:40 - 15:30 | K55: 15:30 - 16:00
A56: จ. | B56: โฮมรูม/PLC | C56: ศ22102 ศิลปะ 4 (มตรส, ห้องดนตรี) | D56: อ22102 ภาษาอังกฤษ 4 (ศุภกิตติ์, ห้องอังกฤษ) | E56: ว22204 สวนพฤกษศาสตร์ 1 (พาณิชย์, ห้องวิทย์) | F56: พ22103 สุขศึกษาและพลศึกษา 4 (วีระพงษ์) | G56: -X- | H56: ค22102 คณิตศาสตร์ 4 (ญารินดา, ห้อง 202) | I56: ส22103 สังคมศึกษา 4 (ณัฐวิภา, ห้องอาเซียน) | J56: ลดเวลาเรียน เพิ่มเวลารู้ (กิตติวัฒน์, ชนม์สิตา) | K56: เขตรับผิดชอบความสะอาด
A57: อ. | B57: โฮมรูม/PLC | C57: ว22102 วิทยาศาสตร์ 4 (กิตติวัฒน์, ห้อง 202) | D57: ส22104 ประวัติศาสตร์ 4 (ณัฐวิภา, ห้องอาเซียน) | E57: ค22102 คณิตศาสตร์ 4 (ญารินดา, ห้อง 202) | F57: ส22103 สังคมศึกษา 4 (ณัฐวิภา, ห้องอาเซียน) | G57: -X- | H57: วิชาเลือกเสรี ม.2 | I57: ว22104 การออกแบบและเทคโนโลยี 2 (พาณิชย์, พัชญ์ชิสา) [ห้องคอมฯ] | J57: กิจกรรมแนะแนว (ณัฐวิภา, ห้อง 202) | K57: เขตรับผิดชอบความสะอาด
A58: พ. | B58: โฮมรูม/PLC | C58: ส22103 สังคมศึกษา 4 (ณัฐวิภา, ห้องอาเซียน) | D58: ท22102 ภาษาไทย 4 (วิลาวัณย์, ห้องพยาบาล) | E58: ว22102 วิทยาศาสตร์ 4 (กิตติวัฒน์, ห้อง 202) | F58: Self Study (ปนัดดา, ณัฐวิภา) [ห้องอาเซียน] | G58: -X- | H58: ง22102 การงานอาชีพฯ 4 (สุดารัตน์, ห้อง 202) | J58: ลูกเสือ-เนตรนารี (ศุภกิตติ์, ปนัดดา) | K58: เขตรับผิดชอบความสะอาด
A59: พฤ. | B59: โฮมรูม/PLC | C59: Self Study (ปนัดดา, ณัฐวิภา) [ห้องอาเซียน] | D59: ว22202 โครงงานทดลอง (กิตติวัฒน์, ห้อง 202) | E59: ท22102 ภาษาไทย 4 (วิลาวัณย์, ห้องพยาบาล) | F59: อ22102 ภาษาอังกฤษ 4 (ศุภกิตติ์, ห้องอังกฤษ) | G59: -X- | H59: พ22103 สุขศึกษาและพลศึกษา 4 (วีระพงษ์, สนามกีฬา) | I59: ชุมนุม | J59: กีฬา | K59: เขตรับผิดชอบความสะอาด
A60: ศ. | B60: โฮมรูม/PLC | C60: ค22102 คณิตศาสตร์ 4 (ญารินดา, ห้อง 202) | D60: อ22102 ภาษาอังกฤษ 4 (ศุภกิตติ์, ห้องอังกฤษ) | E60: ส22252 การป้องกันการทุจริต 4 (มตรส, ห้อง 202) | F60: ท22102 ภาษาไทย 4 (วิลาวัณย์, ห้องพยาบาล) | G60: -X- | H60: ศ22102 ศิลปะ 4 (มตรส, ห้องดนตรี) | I60: ว22102 วิทยาศาสตร์ 4 (กิตติวัฒน์, ห้อง 202) | J60: คุณธรรม จริยธรรม | K60: เขตรับผิดชอบความสะอาด
A61: Timetable generated with FET 6.26.2 on 28/10/2026 | โรงเรียนเดื่อวิทยาคาร
B63: ลงชื่อ..................................................หัวหน้ากลุ่มบริหารงานวิชาการ | H63: ลงชื่อ..........................................................ผู้อำนวยการสถานศึกษา
...
